BEGIN:VCALENDAR
VERSION:2.0
PRODID:-//C.M.A.K. Cerkno - ECPv5.10.0//NONSGML v1.0//EN
CALSCALE:GREGORIAN
METHOD:PUBLISH
X-WR-CALNAME:C.M.A.K. Cerkno
X-ORIGINAL-URL:https://cmakcerkno.net
X-WR-CALDESC:Events for C.M.A.K. Cerkno
BEGIN:VTIMEZONE
TZID:Europe/Ljubljana
BEGIN:DAYLIGHT
TZOFFSETFROM:+0100
TZOFFSETTO:+0200
TZNAME:CEST
DTSTART:20250330T010000
END:DAYLIGHT
BEGIN:STANDARD
TZOFFSETFROM:+0200
TZOFFSETTO:+0100
TZNAME:CET
DTSTART:20251026T010000
END:STANDARD
END:VTIMEZONE
BEGIN:VEVENT
DTSTART;TZID=Europe/Ljubljana:20250202T170000
DTEND;TZID=Europe/Ljubljana:20250202T170000
DTSTAMP:20260421T132546
CREATED:20250119T135944Z
LAST-MODIFIED:20250131T140342Z
UID:5628-1738515600-1738515600@cmakcerkno.net
SUMMARY:Prismojeni Profesorji Bluesa na Kavč festivalu v Cerknem
DESCRIPTION:Prismojeni profesorji bluesa se po letih igranja po Sloveniji vračajo v Cerkno\, v sklopu Kavč festivala bodo odigrali koncert v CMAK-u\, v Večnamenskem prostoru Večnamenskega centra Cerkno. \n\n\n\n\n\n\n\nPripravite prostovoljne prispevke in obujte plesne čevljce\, pripravite se na blues rock eksplozivno improvizacijsko poslastico v živo!  \n\n\n\nTokrat ob prijaznejši vikend uri: koncert se prične ob 17:00.  \n\n\n\nSe vidimo!
URL:https://cmakcerkno.net/event/prismojeni-profesorji-bluesa-na-kavc-festivalu-v-cerknem/
LOCATION:MC CMAK Cerkno\, Predavalnica VCC\, Bevkova 22
CATEGORIES:Gostujemo,Koncert
END:VEVENT
END:VCALENDAR