BEGIN:VCALENDAR
VERSION:2.0
PRODID:-//C.M.A.K. Cerkno - ECPv5.10.0//NONSGML v1.0//EN
CALSCALE:GREGORIAN
METHOD:PUBLISH
X-WR-CALNAME:C.M.A.K. Cerkno
X-ORIGINAL-URL:https://cmakcerkno.net
X-WR-CALDESC:Events for C.M.A.K. Cerkno
BEGIN:VTIMEZONE
TZID:Europe/Ljubljana
BEGIN:DAYLIGHT
TZOFFSETFROM:+0100
TZOFFSETTO:+0200
TZNAME:CEST
DTSTART:20230326T010000
END:DAYLIGHT
BEGIN:STANDARD
TZOFFSETFROM:+0200
TZOFFSETTO:+0100
TZNAME:CET
DTSTART:20231029T010000
END:STANDARD
END:VTIMEZONE
BEGIN:VEVENT
DTSTART;TZID=Europe/Ljubljana:20230429T140000
DTEND;TZID=Europe/Ljubljana:20230429T140000
DTSTAMP:20260423T101337
CREATED:20230428T022615Z
LAST-MODIFIED:20230428T022615Z
UID:5205-1682776800-1682776800@cmakcerkno.net
SUMMARY:Delovna akcija pred Karajžewcem
DESCRIPTION:V soboto\, 29.4. vabljeni na pomoč pri delovni akciji!\n\n\n\n\n\nNajprej bomo podrli lesene strukture na dosedanjem Karajžewc placu ter material peljali na novo prizorišče. Tam pa bomo pričeli s čiščenjem in urejanjem prostora za letošnji Karajžewc.\n\n\n\nZa malico bo poskrbljeno.\n\n\n\nRes je\, letošnji 16. tabor Karajžewc bo potekal na novem\,\na nič manj čarobnem placu.\n\n\n\nKje? Pridružite se nam v soboto ob 14.oo na Straži in boste izvedeli 🙂
URL:https://cmakcerkno.net/event/delovna-akcija-pred-karajzewcem/
LOCATION:Straža pri Cerknem\, Straža pri Cerknem\, 5282\, Slovenia
CATEGORIES:Delovna akcija
END:VEVENT
END:VCALENDAR