BEGIN:VCALENDAR
VERSION:2.0
PRODID:-//C.M.A.K. Cerkno - ECPv5.10.0//NONSGML v1.0//EN
CALSCALE:GREGORIAN
METHOD:PUBLISH
X-WR-CALNAME:C.M.A.K. Cerkno
X-ORIGINAL-URL:https://cmakcerkno.net
X-WR-CALDESC:Events for C.M.A.K. Cerkno
BEGIN:VTIMEZONE
TZID:Europe/Ljubljana
BEGIN:DAYLIGHT
TZOFFSETFROM:+0100
TZOFFSETTO:+0200
TZNAME:CEST
DTSTART:20250330T010000
END:DAYLIGHT
BEGIN:STANDARD
TZOFFSETFROM:+0200
TZOFFSETTO:+0100
TZNAME:CET
DTSTART:20251026T010000
END:STANDARD
BEGIN:DAYLIGHT
TZOFFSETFROM:+0100
TZOFFSETTO:+0200
TZNAME:CEST
DTSTART:20260329T010000
END:DAYLIGHT
BEGIN:STANDARD
TZOFFSETFROM:+0200
TZOFFSETTO:+0100
TZNAME:CET
DTSTART:20261025T010000
END:STANDARD
END:VTIMEZONE
BEGIN:VEVENT
DTSTART;TZID=Europe/Ljubljana:20251218T160000
DTEND;TZID=Europe/Ljubljana:20251222T180000
DTSTAMP:20260421T173018
CREATED:20251121T180938Z
LAST-MODIFIED:20251121T180938Z
UID:5852-1766073600-1766426400@cmakcerkno.net
SUMMARY:Cmakov štant
DESCRIPTION:Cmakov štant tudi letos obeta polno dobrot! \nPotekal bo od 18. do 22. decembra v nekdanjem baru Pr’ Gabrijelu. \nPodroben urnik in spremljevalni program sledi kmalu.
URL:https://cmakcerkno.net/event/cmakov-stant-3/
LOCATION:Bar Gabrijel\, Trg prekomorskih brigad 1\, Cerkno\, 5282\, Slovenija
CATEGORIES:CMAKoncert,Delavnica,Film,Improvizacija,Literarni večer,Poezija,Predstavitev in debata,Stojnice
END:VEVENT
BEGIN:VEVENT
DTSTART;TZID=Europe/Ljubljana:20251219T150000
DTEND;TZID=Europe/Ljubljana:20251221T160000
DTSTAMP:20260421T173018
CREATED:20251201T221018Z
LAST-MODIFIED:20251201T221102Z
UID:5869-1766156400-1766332800@cmakcerkno.net
SUMMARY:Izmenjevalnica oblačil na Štantu
DESCRIPTION:V sodelovanjem z Društvom upokojencev Cerkno bo od petka do nedelje v sklopu Cmakovega štanta potekala tudi izmenjevalnica oblačil. Lahko prinesete svoja stara oblačila in jih zamenjate za katera od teh\, ki jih najdete na izmenjevalnici. Lahko pa tudi zgolj vzamete\, ter pustite prispevek v kakšni drugi obliki\, npr. kaka domača dobrota 🙂 \nIzmenjevalnica bo potekala v prostorih Društva upokojencev Cerkno\, od petka ob 15.00 do nedelje ob 16.00.
URL:https://cmakcerkno.net/event/izmenjevalnica-oblacil/
LOCATION:Društvo upokojencev Cerkno\, Močnikova ulica 8
CATEGORIES:Izmenjevalnica
END:VEVENT
BEGIN:VEVENT
DTSTART;TZID=Europe/Ljubljana:20251220T160000
DTEND;TZID=Europe/Ljubljana:20260128T160000
DTSTAMP:20260421T173018
CREATED:20251201T220235Z
LAST-MODIFIED:20260120T093602Z
UID:5859-1766246400-1769616000@cmakcerkno.net
SUMMARY:Razstava: Hana Renko: Obzorja /Mladi v  Stopnišču 2025
DESCRIPTION:
URL:https://cmakcerkno.net/event/otvoritev-razstave-hana-renko-obzorja-mladi-v-stopniscu-2025/
LOCATION:Galerija Stopnišče\, Bevkova 22\, Cerkno\, 5282\, Slovenija
CATEGORIES:Razstava
END:VEVENT
BEGIN:VEVENT
DTSTART;TZID=Europe/Ljubljana:20251221T120000
DTEND;TZID=Europe/Ljubljana:20251221T160000
DTSTAMP:20260421T173018
CREATED:20251201T220621Z
LAST-MODIFIED:20251201T220621Z
UID:5867-1766318400-1766332800@cmakcerkno.net
SUMMARY:Igranje družabnih iger
DESCRIPTION:
URL:https://cmakcerkno.net/event/igranje-druzabnih-iger/
LOCATION:Bar Gabrijel\, Trg prekomorskih brigad 1\, Cerkno\, 5282\, Slovenija
CATEGORIES:Klubski večer
END:VEVENT
END:VCALENDAR