BEGIN:VCALENDAR
VERSION:2.0
PRODID:-//C.M.A.K. Cerkno - ECPv5.10.0//NONSGML v1.0//EN
CALSCALE:GREGORIAN
METHOD:PUBLISH
X-WR-CALNAME:C.M.A.K. Cerkno
X-ORIGINAL-URL:https://cmakcerkno.net
X-WR-CALDESC:Events for C.M.A.K. Cerkno
BEGIN:VTIMEZONE
TZID:Europe/Ljubljana
BEGIN:DAYLIGHT
TZOFFSETFROM:+0100
TZOFFSETTO:+0200
TZNAME:CEST
DTSTART:20250330T010000
END:DAYLIGHT
BEGIN:STANDARD
TZOFFSETFROM:+0200
TZOFFSETTO:+0100
TZNAME:CET
DTSTART:20251026T010000
END:STANDARD
END:VTIMEZONE
BEGIN:VEVENT
DTSTART;TZID=Europe/Ljubljana:20251122T180000
DTEND;TZID=Europe/Ljubljana:20251219T000000
DTSTAMP:20260421T173018
CREATED:20251110T173831Z
LAST-MODIFIED:20251121T174745Z
UID:5828-1763834400-1766102400@cmakcerkno.net
SUMMARY:Ana Marija Palir - Our ghost - Najino zapuščanje /Mladi v Stopnišču 2025
DESCRIPTION:Od sobote dalje bo vrata odprla razstava Our ghost oz. Najino zapuščanje\, s katero se bo predstavila mlada umetnica Ana Marija Palir. \n  \nSerija slik v akrilu in olju na platnu raziskuje krhko pokrajino človeške psihe. Vizualni dnevnik čustvenih stisk\, hrepenenja in bolečine ob zapuščenosti. Figure\, upodobljene v nadrealističnih odtenkih modre in rdeče\, obstajajo v prostoru med nežnostjo in obupom\, med željo po povezanosti in neizogibnostjo izgube. \n  \nVsaka slika se dotika simbola rdeče niti. Vezi\, ki nastanejo skozi čustva\, komunikacijo in bližino. A ta nit je občutljiva\, ko eden od dveh ne čuti več\, se vez raztrga in za sabo pusti tišino ter strašljivi odmev tistega\, kar je nekoč pomenilo povezanost. Z izraznimi obrazi in popačenimi telesi dela odsevajo notranje razpoke tistih\, ki ljubijo globoko in izgubljajo tiho. \n  \nAna Marija Palir (1998\, Ljubljana\, Slovenija) je multidisciplinarna umetnica in filmska ustvarjalka\, katere praksa prepleta film\, instalacijo\, slikarstvo in sodobno vizualno umetnost. Diplomirala je iz videa in novih medijev na Akademiji za likovno umetnost in oblikovanje (ALUO) Univerze v Ljubljani in deluje v različnih medijih\, ter raziskuje teme nadzora\, travme\, identitete in telesa. \n  \nVstop je brezplačen. \n  \nPodpirajo: Občina Cerkno\, JSKD in Urad za Mladino RS. \n  \nPo razstavi sledi še dogodek Andrej Voje: Podvodno kraljestvo v deželi faraonov – projekcija filma in pogovor.
URL:https://cmakcerkno.net/event/5828/
LOCATION:Galerija Stopnišče\, Bevkova 22\, Cerkno\, 5282\, Slovenija
CATEGORIES:Razstava
END:VEVENT
BEGIN:VEVENT
DTSTART;TZID=Europe/Ljubljana:20251202T180000
DTEND;TZID=Europe/Ljubljana:20251202T180000
DTSTAMP:20260421T173018
CREATED:20251121T180509Z
LAST-MODIFIED:20251201T220104Z
UID:5848-1764698400-1764698400@cmakcerkno.net
SUMMARY:Predstavitev in debata: Svisli na Cerkljanskem
DESCRIPTION:Vabimo na tretji javni pogovor o dediščini\, tokrat na temo: Zgodbe o svislih. \nKatalog svisli in rezultate terenskega dokumentiranja svisli\, ki je potekalo na Cerkljanskem med 3 in 6 aprilom 2025\, vam bodo predstavile:– Andrejka Ščukovt (Zavod za varstvo kulturne dediščine Slovenije\, območna enota Nova Gorica)\, – Tina Krašovic (asistentka Oddelka za etnologijo in kulturno antropologijo\, Filozofska fakulteta Univerza v Ljubljani)\, predstavniki študentov Oddelka\, – – Saša Roškar (Zavod za varstvo kulturne dediščine Slovenije\, območna enota Kranj) in – Tina Komac (Javni zavod Triglavski narodni park). \nVstop prost! \nDogodek soorganizirata C.M.A.K. ter društvo za ohranjanje primorske naravne in kulturne dediščine Nekdanjost. \nVeč informacij na spletni strani: https://www.zvkds.si/23531-2/
URL:https://cmakcerkno.net/event/predavanje-in-pogovor-svisli-na-cerkljanskem/
LOCATION:MC CMAK Cerkno\, Predavalnica VCC\, Bevkova 22
CATEGORIES:Predstavitev in debata
END:VEVENT
END:VCALENDAR