BEGIN:VCALENDAR
VERSION:2.0
PRODID:-//C.M.A.K. Cerkno - ECPv5.10.0//NONSGML v1.0//EN
CALSCALE:GREGORIAN
METHOD:PUBLISH
X-WR-CALNAME:C.M.A.K. Cerkno
X-ORIGINAL-URL:https://cmakcerkno.net
X-WR-CALDESC:Events for C.M.A.K. Cerkno
BEGIN:VTIMEZONE
TZID:Europe/Ljubljana
BEGIN:DAYLIGHT
TZOFFSETFROM:+0100
TZOFFSETTO:+0200
TZNAME:CEST
DTSTART:20250330T010000
END:DAYLIGHT
BEGIN:STANDARD
TZOFFSETFROM:+0200
TZOFFSETTO:+0100
TZNAME:CET
DTSTART:20251026T010000
END:STANDARD
END:VTIMEZONE
BEGIN:VEVENT
DTSTART;TZID=Europe/Ljubljana:20250912T180000
DTEND;TZID=Europe/Ljubljana:20251017T220000
DTSTAMP:20260421T205532
CREATED:20250911T195625Z
LAST-MODIFIED:20250930T202254Z
UID:5794-1757700000-1760738400@cmakcerkno.net
SUMMARY:Razstava: Čebelko - Zelenjavne kvačkanine /Mladi v Stopnišču 2025
DESCRIPTION:Maja Žvab – Čebelko\, je 29 letna deklina\, originalno iz Bele Krajine\, ki zadnjo polovico življenja živi in deluje v Ljubljani. Od vedno je rada ustvarjala v raznih tehnikah\, od slikanja do kiparjenja\, linoreza in tako naprej. Navdušuje jo ljubezen do narave in botanike\, ter preciznih detajlov. Šolanje je najprej začela na SŠOF\, maturirala na gim. Poljane in kasneje svojo pot nadaljevala na Biotehniški fakulteti v Ljubljani\, smer hortikultura. \n\n\n\nTokrat se vam bo Maja predstavila s svojimi miniaturami kvačkanimi pliškoti; gob\, zelenjave in sadja\, ki so nastajali pod njenimi prsti od Aprila 2024. \n\n\n\nRazstava bo stala od 12.9. do 17.10.\, ogledate si jo lahko vsak dan od 8.00 do 20.00. \n\n\n\nCikel Mladi v Stopnišču podpirata Občina Cerkno in JSKD.
URL:https://cmakcerkno.net/event/razstava-cebelko-zelenjavne-kvackanine-mladi-v-stopniscu-2025/
LOCATION:Galerija Stopnišče\, Bevkova 22\, Cerkno\, 5282\, Slovenija
CATEGORIES:Natečaj,Razstava
END:VEVENT
BEGIN:VEVENT
DTSTART;TZID=Europe/Ljubljana:20251009T180000
DTEND;TZID=Europe/Ljubljana:20251009T180000
DTSTAMP:20260421T205532
CREATED:20250930T202159Z
LAST-MODIFIED:20250930T202159Z
UID:5799-1760032800-1760032800@cmakcerkno.net
SUMMARY:Kje dobiti soude za obnovo stare bajte?
DESCRIPTION:Vabimo na drugi javni pogovor o dediščini\, tokrat na temo možnosti financiranja obnove starih stavb.\n\n \n\nAndrejka Ščukovt (Zavod za varstvo kulturne dediščine)\, Mojca Sfiligoj (Ministrstvo za kulturo in domačija Pr’ Lenart) in Cirila Toplak (domačija Za Lamovjem) 9. oktobra 2025 ob 18h v predavalnici VCC\, Bevkova ulica 22\, Cerkno\, bodo predstavile svoje izkušnje z obnovo stavbne dediščine in možnosti financiranja obnove.\n\n \n\nDogodek je namenjen vsem\, ki jih zanima dediščina in ki razmišljajo o obnovi stare stavbe ali so se je že lotili.\n\n \n\nDogodek soorganizirata Društvo za ohranjanje primorske naravne in kulturne dediščine Nekdanjost in Cerkljanski Mladinski Alternativni Klub – CMAK.\n\n \n\nVstopnine prosto – prisrčno vabljene in vabljeni!
URL:https://cmakcerkno.net/event/kje-dobiti-soude-za-obnovo-stare-bajte/
LOCATION:MC CMAK Cerkno\, Predavalnica VCC\, Bevkova 22
CATEGORIES:Pogovor,Predavanje,Predstavitev in debata
END:VEVENT
END:VCALENDAR