BEGIN:VCALENDAR
VERSION:2.0
PRODID:-//C.M.A.K. Cerkno - ECPv5.10.0//NONSGML v1.0//EN
CALSCALE:GREGORIAN
METHOD:PUBLISH
X-WR-CALNAME:C.M.A.K. Cerkno
X-ORIGINAL-URL:https://cmakcerkno.net
X-WR-CALDESC:Events for C.M.A.K. Cerkno
BEGIN:VTIMEZONE
TZID:Europe/Ljubljana
BEGIN:DAYLIGHT
TZOFFSETFROM:+0100
TZOFFSETTO:+0200
TZNAME:CEST
DTSTART:20210328T010000
END:DAYLIGHT
BEGIN:STANDARD
TZOFFSETFROM:+0200
TZOFFSETTO:+0100
TZNAME:CET
DTSTART:20211031T010000
END:STANDARD
END:VTIMEZONE
BEGIN:VEVENT
DTSTART;TZID=Europe/Ljubljana:20210529T100000
DTEND;TZID=Europe/Ljubljana:20210529T130000
DTSTAMP:20260419T234914
CREATED:20210520T063840Z
LAST-MODIFIED:20210613T060303Z
UID:4328-1622282400-1622293200@cmakcerkno.net
SUMMARY:Vrtičkarsko dopoldne pred MC C.M.A.K.
DESCRIPTION:Na izmenjavi smo dali in dobili\, slednje bomo sedaj še posadili.\n\nPridružite se nam v soboto dopoldne na delovni akciji vrtičkanja! \n\n\nDel vrta pred Večnamenskim centrom Cerkno\, kjer trenutno domuje CMAK\, smo lansko jesen pognojili in pripravili\, sedaj pa ga bomo opleli\, nato pa vanj posadili semena in sadike zelenjave in začimb z izmenjave prejšnjo nedeljo. Zasadili pa bomo tudi kakšno trajnico oz. sadno drevo.\n\n\nVabljeni vsi\, ki vas zanimata vrtnarjenje in samooskrba\, s seboj pa lahko prinesete tudi kako “flanco”. \n\n! Prosimo vas da glede na ukrepe glede odhajajočega virusa Covid-19 držite primerno razdaljo\, ter si razkužite roke z razkužilom ki bo na mizi.
URL:https://cmakcerkno.net/event/vrtickarsko-dopoldne-pred-mc-c-m-a-k/
LOCATION:Dvorišče pred VCC\, Bevkova ulica 22\, Cerkno\, 5282\, Slovenija
CATEGORIES:Delavnica
END:VEVENT
END:VCALENDAR