BEGIN:VCALENDAR
VERSION:2.0
PRODID:-//C.M.A.K. Cerkno - ECPv5.10.0//NONSGML v1.0//EN
CALSCALE:GREGORIAN
METHOD:PUBLISH
X-WR-CALNAME:C.M.A.K. Cerkno
X-ORIGINAL-URL:https://cmakcerkno.net
X-WR-CALDESC:Events for C.M.A.K. Cerkno
BEGIN:VTIMEZONE
TZID:Europe/Ljubljana
BEGIN:DAYLIGHT
TZOFFSETFROM:+0100
TZOFFSETTO:+0200
TZNAME:CEST
DTSTART:20180325T010000
END:DAYLIGHT
BEGIN:STANDARD
TZOFFSETFROM:+0200
TZOFFSETTO:+0100
TZNAME:CET
DTSTART:20181028T010000
END:STANDARD
END:VTIMEZONE
BEGIN:VEVENT
DTSTART;TZID=Europe/Ljubljana:20180324T170000
DTEND;TZID=Europe/Ljubljana:20180324T200000
DTSTAMP:20260421T143759
CREATED:20180320T085534Z
LAST-MODIFIED:20180320T085534Z
UID:2851-1521910800-1521921600@cmakcerkno.net
SUMMARY:Vodena meditacija: "Jaz sem"
DESCRIPTION:Skupno odkrivanje sebe. \nPovabilo k skupni meditaciji\, kjer se bomo posvetili odkrivanju sreče\, veselja in notranjega miru.\nV sklopu pogovora in meditacije vam želim pokazati in vas povabiti v prostor\, kjer boste lahko bolje spoznali sebe. \nNekaj kratkih navodil:\nPred vstopom v prostor kjer bo potekala meditacija vas prosim da pustite svojo čevlje zunaj\, kjer če je le mogoče pustite tudi svoj razum. Pridite odprtega srca in razuma. \nPoskrbljeno bo za topel prostor\, mehke blazine in poleg toplega čaja tudi toplo srce. \nMeditacijo bo vodil Marko Keber.
URL:https://cmakcerkno.net/event/vodena-meditacija-jaz-sem/
CATEGORIES:Delavnica
ATTACH;FMTTYPE=image/jpeg:https://cmakcerkno.net/wp-content/uploads/2018/03/meditacija_KEBER.jpg
END:VEVENT
END:VCALENDAR