BEGIN:VCALENDAR
VERSION:2.0
PRODID:-//C.M.A.K. Cerkno - ECPv5.10.0//NONSGML v1.0//EN
CALSCALE:GREGORIAN
METHOD:PUBLISH
X-WR-CALNAME:C.M.A.K. Cerkno
X-ORIGINAL-URL:https://cmakcerkno.net
X-WR-CALDESC:Events for C.M.A.K. Cerkno
BEGIN:VTIMEZONE
TZID:Europe/Ljubljana
BEGIN:DAYLIGHT
TZOFFSETFROM:+0100
TZOFFSETTO:+0200
TZNAME:CEST
DTSTART:20190331T010000
END:DAYLIGHT
BEGIN:STANDARD
TZOFFSETFROM:+0200
TZOFFSETTO:+0100
TZNAME:CET
DTSTART:20191027T010000
END:STANDARD
END:VTIMEZONE
BEGIN:VEVENT
DTSTART;TZID=Europe/Ljubljana:20190626T160000
DTEND;TZID=Europe/Ljubljana:20190626T190000
DTSTAMP:20260422T104806
CREATED:20190621T141615Z
LAST-MODIFIED:20190621T141615Z
UID:3591-1561564800-1561575600@cmakcerkno.net
SUMMARY:VEZVEZVEZVEZ
DESCRIPTION:Delavnica sodobne uporabe klasičnih tehnik vezenja.\nMentor: Milica Dukić\, mag. slikarstva\, Novi Sad\, Srbija\nhttps://milicadukic.wordpress.com\nGalerija Križišče\, sreda\, 26. 6. 2019 od 16:00 do 19:00 \nPo razstavi ČIPk na festivalu Deuje babe se bo v C.M.A.K.-u zopet napenjala nit. K sodelovanju smo povabili Milico Dukić\, slikarko iz Novega Sada\, ki v svojih likovnih delih prepleta sodobne likovne tehnike s klasičnimi tehnikami vezenja. Dvotedensko bivanje v Cerknem bo zaključila tako\, da bo zainteresiranim predala svoje znanje in izkušnje.\nUdeleženci_ke se boste spoznavali s klasično tehniko vezenja. Naučili_e se boste uporabljati različne šive in odkrili_e različne aplikativne možnosti – vezenje na obleko\, slike\, fotografije …\nDelavnica je namenjena začetnikom_cam in tistim\, ki že imajo izkušnje z vezenjem\, ter vsem starostnim skupinam.\nUdeleženci_ke prinesite podloge\, na katere boste vezli: obleke\, fotografije\, revije… C.M.A.K. bo poskrbel za potrebna orodja in ostali material. Kljub temu\, če imate igle\, škarje\, nit in obroč\nza vezenje\, jih prinesite s seboj.\nDelavnice so brezplačne in bodo potekale v angleškem in/ali srbskem jeziku. \nFotografija je simbolična.
URL:https://cmakcerkno.net/event/vezvezvezvez/
LOCATION:C.M.A.K. Cerkno\, Bevkova ulica 22\, Cerkno\, 5282\, Slovenija
CATEGORIES:Delavnica
ATTACH;FMTTYPE=image/jpeg:https://cmakcerkno.net/wp-content/uploads/2019/06/VEZVEZVEZ.jpg
END:VEVENT
END:VCALENDAR