BEGIN:VCALENDAR
VERSION:2.0
PRODID:-//C.M.A.K. Cerkno - ECPv5.10.0//NONSGML v1.0//EN
CALSCALE:GREGORIAN
METHOD:PUBLISH
X-WR-CALNAME:C.M.A.K. Cerkno
X-ORIGINAL-URL:https://cmakcerkno.net
X-WR-CALDESC:Events for C.M.A.K. Cerkno
BEGIN:VTIMEZONE
TZID:Europe/Ljubljana
BEGIN:DAYLIGHT
TZOFFSETFROM:+0100
TZOFFSETTO:+0200
TZNAME:CEST
DTSTART:20150329T010000
END:DAYLIGHT
BEGIN:STANDARD
TZOFFSETFROM:+0200
TZOFFSETTO:+0100
TZNAME:CET
DTSTART:20151025T010000
END:STANDARD
END:VTIMEZONE
BEGIN:VEVENT
DTSTART;TZID=Europe/Ljubljana:20151128T190000
DTEND;TZID=Europe/Ljubljana:20151219T210000
DTSTAMP:20260421T161451
CREATED:20151112T191517Z
LAST-MODIFIED:20151217T173743Z
UID:1638-1448737200-1450558800@cmakcerkno.net
SUMMARY:Utrip ... - razstava Erike Razpet
DESCRIPTION:Erika Razpet (1989) prihaja iz Cerknega. Po zaključeni Srednji zdravstveni šoli v Ljubljani se je odločila\, da spremeni smer šolanja. Preusmerila se je v likovne vode in nadaljevala šolanje na Pedagoški fakulteti\, smer Likovna pedagogika\, kjer je tudi diplomirala ter pridobila naziv profesorice likovne pedagogike. Trenutno zaključuje študij na drugi stopnji\, smer Likovna pedagogika. \nPoleg slikanja in risanja ji je v veliko veselje tudi fotografiranje. V njenih delih se pojavljajo motivi iz narave in organske podobe\, ki nakazujejo na njeno globoko povezanost z naravo. V dela vnaša tudi abstraktne elemente v povezavi z realistično risbo in tudi s fotografijo. \n»Narava je vse okoli nas\, a zame predstavlja nekaj več. Je podoba lepote\, ki jo velikokrat spregledamo in se nam zdi samoumevna. Kot otrok sem večino časa preživela zunaj\, na svežem zraku\, in še sedaj se z velikim veseljem odpravim na sprehod v gozd ali širna polja. Tako navdih za svoja dela črpam direktno iz naravnih oblik in podob. \nA narava smo tudi ljudje. Vsak od nas skriva v sebi nekaj čarobnega. To sem poizkusila zajeti skozi fotografijo ter nato tudi z združevanje le te s slikanjem. Združitev fotografije in slikanja mi tako predstavlja nek nov izziv v ustvarjanju in večjo izrazno moč samega dela.«
URL:https://cmakcerkno.net/event/utrip-razstava-erike-razpet/
LOCATION:C.M.A.K. Cerkno\, Bevkova ulica 22\, Cerkno\, 5282\, Slovenija
CATEGORIES:Razstava
ATTACH;FMTTYPE=image/jpeg:https://cmakcerkno.net/wp-content/uploads/2015/11/cover.jpg
END:VEVENT
END:VCALENDAR