BEGIN:VCALENDAR
VERSION:2.0
PRODID:-//C.M.A.K. Cerkno - ECPv5.10.0//NONSGML v1.0//EN
CALSCALE:GREGORIAN
METHOD:PUBLISH
X-WR-CALNAME:C.M.A.K. Cerkno
X-ORIGINAL-URL:https://cmakcerkno.net
X-WR-CALDESC:Events for C.M.A.K. Cerkno
BEGIN:VTIMEZONE
TZID:Europe/Ljubljana
BEGIN:DAYLIGHT
TZOFFSETFROM:+0100
TZOFFSETTO:+0200
TZNAME:CEST
DTSTART:20150329T010000
END:DAYLIGHT
BEGIN:STANDARD
TZOFFSETFROM:+0200
TZOFFSETTO:+0100
TZNAME:CET
DTSTART:20151025T010000
END:STANDARD
END:VTIMEZONE
BEGIN:VEVENT
DTSTART;TZID=Europe/Ljubljana:20150315T090000
DTEND;TZID=Europe/Ljubljana:20150315T180000
DTSTAMP:20260419T143957
CREATED:20150306T161229Z
LAST-MODIFIED:20150311T084612Z
UID:1019-1426410000-1426442400@cmakcerkno.net
SUMMARY:Turnir trojk
DESCRIPTION:Leto je naokoli in v veliki telovadnici OŠ Cerkno zopet organiziramo turnir trojk v malem nogometu.\nPrijave zbiramo do vključno petka\, 13. 3. 2015\, žreb pa se bo zgodil naslednji dan dopoldan. Prijavnina znaša 20 EUR na ekipo\, prijave pa zbiramo na telefonsko številko 051-844-576 (Janez Jeram – Džoni)\, kjer dobite tudi dodatne informacije.\nTurnir trojk podpirajo Osnovna šola Cerkno.
URL:https://cmakcerkno.net/event/turnir-trojk/
LOCATION:OŠ Cerkno\, Bevkova ulica 26\, Cerkno\, 5282\, Slovenia
CATEGORIES:Šport
ATTACH;FMTTYPE=image/jpeg:https://cmakcerkno.net/wp-content/uploads/2015/03/turnir_trojk.jpg
END:VEVENT
END:VCALENDAR