BEGIN:VCALENDAR
VERSION:2.0
PRODID:-//C.M.A.K. Cerkno - ECPv5.10.0//NONSGML v1.0//EN
CALSCALE:GREGORIAN
METHOD:PUBLISH
X-WR-CALNAME:C.M.A.K. Cerkno
X-ORIGINAL-URL:https://cmakcerkno.net
X-WR-CALDESC:Events for C.M.A.K. Cerkno
BEGIN:VTIMEZONE
TZID:Europe/Ljubljana
BEGIN:DAYLIGHT
TZOFFSETFROM:+0100
TZOFFSETTO:+0200
TZNAME:CEST
DTSTART:20170326T010000
END:DAYLIGHT
BEGIN:STANDARD
TZOFFSETFROM:+0200
TZOFFSETTO:+0100
TZNAME:CET
DTSTART:20171029T010000
END:STANDARD
END:VTIMEZONE
BEGIN:VEVENT
DTSTART;TZID=Europe/Ljubljana:20170308T180000
DTEND;TZID=Europe/Ljubljana:20170308T200000
DTSTAMP:20260420T061640
CREATED:20170306T174207Z
LAST-MODIFIED:20170306T174207Z
UID:2033-1488996000-1489003200@cmakcerkno.net
SUMMARY:Tok
DESCRIPTION:Projekcija dokumentarnega filma in pogovor z režiserkama \nRežija in scenarij: Ana Čigon\, Saša Spačal in Ida Hiršenfelder \nSogovornice v filmu: intermedijska umetnica Maja Smrekar\, radijska tehnica Sofija Leron alias Kaktus Kaktus\, skladateljica Larisa Vrhunc\, izvedenka za umetno inteligenco dr. Dunja Mladenić\, programerka Alja Isaković\, produktna vodja dr. Mateja Verlič\, pilotka Alja Berčič in paleontologinja dr. Dragica Turnšek \nV dokumentarnem filmu osem sogovornic\, ki delujejo v širokem spektru znanstvenih poklicev od umetne inteligence do programiranja in letalstva\, predstavlja okoliščine\, v katerih so se začele zanimati za tehnološke poklice\, na katere ovire so pri tem naletele in kako so se z njimi spopadle. Dokumentarec predstavlja dela uspešnih žensk na omenjenih področjih in želi opolnomočiti ženske in moške\, ki jih takšna in sorodna področja zanimajo. \nDokumentarec problematizira pogoje za delo in delovno okolje posameznih govork ter raziskuje družbene strukture\, ki ovirajo ženske pri vstopu v te poklice. Kot protiutež temu skozi pogovore in vizualne materiale iščejo izrazito pozitivne / afirmativne vidike dela\, ki posameznicam nudijo moč in energijo\, da vztrajajo v njim ljubih poklicih. \nBrezplačna projekcija ob mednarodnem dnevu žensk. \nProjekciji bo sledil pogovor s soavtoricama filma\, Ano Čigon in Ido Hiršenfelder. Moderirala ga bo Karmen Strel. \n  \nKoprodukcija: Iniciativa ČIPke | Rampa laboratorij – Zavod Kersnikova\, RTV Slovenija \nPodpora: Ministrstvo za kulturo Republike Slovenije\, Mestna občina Ljubljana \nOrganizacija: Festival Deuje babe v sodelovanju s Filmskim gledališčem Idrija\, Gimnazijo Jurija Vege Idrija in festivalom Rdeče zore. \nFacebook: https://www.facebook.com/events/1655612548066157/
URL:https://cmakcerkno.net/event/tok/
LOCATION:Filmsko gledališče Idrija\, Trg sv. Ahacija 5\, Idrija\, 5280\, Slovenija
CATEGORIES:Film
ATTACH;FMTTYPE=image/jpeg:https://cmakcerkno.net/wp-content/uploads/2017/03/Tok1.jpg
END:VEVENT
END:VCALENDAR