BEGIN:VCALENDAR
VERSION:2.0
PRODID:-//C.M.A.K. Cerkno - ECPv5.10.0//NONSGML v1.0//EN
CALSCALE:GREGORIAN
METHOD:PUBLISH
X-WR-CALNAME:C.M.A.K. Cerkno
X-ORIGINAL-URL:https://cmakcerkno.net
X-WR-CALDESC:Events for C.M.A.K. Cerkno
BEGIN:VTIMEZONE
TZID:Europe/Ljubljana
BEGIN:DAYLIGHT
TZOFFSETFROM:+0100
TZOFFSETTO:+0200
TZNAME:CEST
DTSTART:20180325T010000
END:DAYLIGHT
BEGIN:STANDARD
TZOFFSETFROM:+0200
TZOFFSETTO:+0100
TZNAME:CET
DTSTART:20181028T010000
END:STANDARD
END:VTIMEZONE
BEGIN:VEVENT
DTSTART;TZID=Europe/Ljubljana:20181012T180000
DTEND;TZID=Europe/Ljubljana:20181012T200000
DTSTAMP:20260420T083123
CREATED:20181005T084511Z
LAST-MODIFIED:20181005T084511Z
UID:3137-1539367200-1539374400@cmakcerkno.net
SUMMARY:Temelji astrologije\, tarota in magike
DESCRIPTION:V petek\, 12. oktobra ob 18.oo\, se bomo v MC C.M.A.K. Cerkno z Matjažem Lazarjem in Maticem Krapežem ( člana reda Ordo Templi Orientis ) sprehodili skozi zgodovino in temeljne vede zahodne ezoterične tradicije. Osredotočili se bomo predvsem na to\, kako v teoriji in praksi delujejo astrologija\, tarot in obredna magika. \nMatjaž nam bo razkril več o medsebojni povezanosti tarota in astrologije ter kako lahko ti dve vedi s pridom izkoristimo v vsakdanjem življenju\, Matic pa nam bo pojasnil\, kako je z odklicnim ritualom pentagrama ali heksagrama mogoče očistiti in zaščititi sebe in našo okolico neželenih ter škodljivih energij.\nPo predstavitvi bo sledila tudi demonstracija odklicnega rituala pentagrama. \nVstop prost – prostovoljni prispevki zaželjeni.
URL:https://cmakcerkno.net/event/temelji-astrologije-tarota-in-magike/
LOCATION:C.M.A.K. Cerkno\, Bevkova ulica 22\, Cerkno\, 5282\, Slovenija
CATEGORIES:Predavanje
ATTACH;FMTTYPE=image/jpeg:https://cmakcerkno.net/wp-content/uploads/2018/10/magija.jpg
END:VEVENT
END:VCALENDAR