BEGIN:VCALENDAR
VERSION:2.0
PRODID:-//C.M.A.K. Cerkno - ECPv5.10.0//NONSGML v1.0//EN
CALSCALE:GREGORIAN
METHOD:PUBLISH
X-WR-CALNAME:C.M.A.K. Cerkno
X-ORIGINAL-URL:https://cmakcerkno.net
X-WR-CALDESC:Events for C.M.A.K. Cerkno
BEGIN:VTIMEZONE
TZID:Europe/Ljubljana
BEGIN:DAYLIGHT
TZOFFSETFROM:+0100
TZOFFSETTO:+0200
TZNAME:CEST
DTSTART:20200329T010000
END:DAYLIGHT
BEGIN:STANDARD
TZOFFSETFROM:+0200
TZOFFSETTO:+0100
TZNAME:CET
DTSTART:20201025T010000
END:STANDARD
END:VTIMEZONE
BEGIN:VEVENT
DTSTART;TZID=Europe/Ljubljana:20200306T203000
DTEND;TZID=Europe/Ljubljana:20200306T220000
DTSTAMP:20260421T093631
CREATED:20200222T165705Z
LAST-MODIFIED:20200222T165705Z
UID:3830-1583526600-1583532000@cmakcerkno.net
SUMMARY:Ta bi na grmadi gorela / 8. festival Deuje babe
DESCRIPTION:Čarovnice. Bojevnice. Samotarke. Avanturistke. Upornice. Raziskovalke. Popotnice. Vseznalke. Mlade in stare. Poročene in samske in vdove in ljubice in mame in tete. Občutljive\, tihe\, drugačne\, samosvoje\, samozavestne\, svobodne\, intrigantne\, neprilagojene\, ognjevite\, zapeljive\, zapeljane\, zavržene. \nKrive? \nPripovedovalska skupina Vodnikovih 9 je nastala na Vodnikovi domačiji pod mentorstvom Ane Duše. Ukvarja se z razvojem in promocijo sodobnega pripovedovanja\, izprašuje pomen ljudskih zgodb in jih upoveduje skozi prizmo zgodovinskih\, osebnih\, političnih in družbenih kontekstov. \nPripovedujejo: Maša Budič\, Gregor Hribar\, Anja Kocman\, Nuša Komplet Peperko\, Daša Ozimek\, Petra Rok\, Tanja Šincek in Boris Zgonc. \nIzbor pripovedi vključuje odlomek iz romana Draga Jančarja ‘Katarina\, pav in jezuit’. Vodnikovih 9 se avtorju zahvaljuje za dovoljenje za uporabo odlomka. \nVstop prost\, prostovoljni prispevki dobrodošli. \nDogodek soorganizirata MC C.M.A.K. Cerkno in Bar Gabrijel\, deloma ga je podprla Občina Cerkno.
URL:https://cmakcerkno.net/event/ta-bi-na-grmadi-gorela-8-festival-deuje-babe/
LOCATION:Bar Gabrijel\, Trg prekomorskih brigad 1\, Cerkno\, 5282\, Slovenija
CATEGORIES:Pripovedniški večer
ATTACH;FMTTYPE=image/jpeg:https://cmakcerkno.net/wp-content/uploads/2020/02/ta-bi-na-grmadi.jpg
END:VEVENT
END:VCALENDAR