BEGIN:VCALENDAR
VERSION:2.0
PRODID:-//C.M.A.K. Cerkno - ECPv5.10.0//NONSGML v1.0//EN
CALSCALE:GREGORIAN
METHOD:PUBLISH
X-WR-CALNAME:C.M.A.K. Cerkno
X-ORIGINAL-URL:https://cmakcerkno.net
X-WR-CALDESC:Events for C.M.A.K. Cerkno
BEGIN:VTIMEZONE
TZID:Europe/Ljubljana
BEGIN:DAYLIGHT
TZOFFSETFROM:+0100
TZOFFSETTO:+0200
TZNAME:CEST
DTSTART:20160327T010000
END:DAYLIGHT
BEGIN:STANDARD
TZOFFSETFROM:+0200
TZOFFSETTO:+0100
TZNAME:CET
DTSTART:20161030T010000
END:STANDARD
END:VTIMEZONE
BEGIN:VEVENT
DTSTART;TZID=Europe/Ljubljana:20160319T210000
DTEND;TZID=Europe/Ljubljana:20160319T210000
DTSTAMP:20260420T120757
CREATED:20160315T174138Z
LAST-MODIFIED:20160317T192314Z
UID:1861-1458421200-1458421200@cmakcerkno.net
SUMMARY:SVETLOBIČ
DESCRIPTION:Tematsko zaokrožen Svetlobič nam bo posvetil s psytrance izborom glasbe. Z nami bo ZWOOK (Spiritual Submarine / Dancing Dragon / Apsurdistan)\, začetnik slovenske psytrance scene v devetdesetih. Pridružili se mu bodo še drugi aktivni soustvarjalci univerz(um)alnih melodij:Djane BRUXA (Freelance) in EAARURU (Sladko Mučenje)\, Dj NIBIRU (Dancing Dragon)\, NOMIX (Synthetic Dialog / Psytrance Unity)\, RAKKAANI (Flying Carpet)\, SINONIMUS (Various Underground Musicians)\, SUN WU-KONG (Flying Carpet)\, TULL (Freelance)\, Če nam bo vreme naklonjeno\, bomo dogodek popoldne otvorili z GONG KOPELJO\, katere dirigent bo gongist KARLO VIZEK (http://www.gongkopel.si/). Pomladna oprema zaželjena (kontrabasi\, kolebnice\, hišni ljubljenčki ipd.) Na meniju: Zelenjavna čorba Vrata bodo odprta…prostovoljni prispevki zelo zelo dobrodošli 🙂
URL:https://cmakcerkno.net/event/svetlobic/
LOCATION:C.M.A.K. Cerkno\, Bevkova ulica 22\, Cerkno\, 5282\, Slovenija
CATEGORIES:Klubski večer
ATTACH;FMTTYPE=image/jpeg:https://cmakcerkno.net/wp-content/uploads/2016/03/12721892_10207974434253121_733038745_n2.jpg
END:VEVENT
END:VCALENDAR