BEGIN:VCALENDAR
VERSION:2.0
PRODID:-//C.M.A.K. Cerkno - ECPv5.10.0//NONSGML v1.0//EN
CALSCALE:GREGORIAN
METHOD:PUBLISH
X-WR-CALNAME:C.M.A.K. Cerkno
X-ORIGINAL-URL:https://cmakcerkno.net
X-WR-CALDESC:Events for C.M.A.K. Cerkno
BEGIN:VTIMEZONE
TZID:Europe/Ljubljana
BEGIN:DAYLIGHT
TZOFFSETFROM:+0100
TZOFFSETTO:+0200
TZNAME:CEST
DTSTART:20150329T010000
END:DAYLIGHT
BEGIN:STANDARD
TZOFFSETFROM:+0200
TZOFFSETTO:+0100
TZNAME:CET
DTSTART:20151025T010000
END:STANDARD
END:VTIMEZONE
BEGIN:VEVENT
DTSTART;TZID=Europe/Ljubljana:20150509T193000
DTEND;TZID=Europe/Ljubljana:20150509T210000
DTSTAMP:20260421T004852
CREATED:20150316T181243Z
LAST-MODIFIED:20150417T135639Z
UID:1040-1431199800-1431205200@cmakcerkno.net
SUMMARY:Strah pred svobodo - predstavitev knjige Marka Rusjana
DESCRIPTION:Knjiga Strah pred svobodo\, s podnaslovom hardkor in upor\, je zapis in analiza dogajanja na goriški hardkor sceni v drugi polovici 90ih let prejšnjega stoletja. S pogledom insajderja Marka Rusjana razmišlja o panku in hardkoru\, nastanku skupine 13. brat in kasneje fanzina\, pojav mnogih hardkor bendov in scene okoli tega\, ideologije in idej\, ki so jo poganjale. Zgodba se prelomi z bojem za Mostovno ter ključnim vprašanjem o prostorih in zaključi z začetkom delovanja Kulturnega centra Mostovna. Epilog pa sklene s samorefleksijo o današnjem delovanju na glasbeni sceni. \nAvtor bo predstavil ključna vprašanja\, ki jih je v knjigi načel. Zakaj se sredi 90ih v Novi Gorici vzpostavi močna hardkor scena? Kakšni so bili njeni nameni? Kako se je reševal prostorski problem za delovanje? Kako se glasbena scena veže na politična vprašanja in aktivizem? Zakaj potreba po radikalni koncepciji neodvisne produkcije? Kako se odvija neodvisna glasbena produkcija 20 let pozneje in katere izzive ima pred seboj? \nAvtor Marko Rusjan je soustanovitelj fanzina in webzina 13. brat (www.13brat.net)\, nekdanji vokalist benda Man in the Shadow in trenutno aktiven v hardkor zasedbi Iamdisease (https://www.facebook.com/iamdisease)
URL:https://cmakcerkno.net/event/strah-pred-svobodo-predstavitev-knjige-marka-rusjana/
LOCATION:C.M.A.K. Cerkno\, Bevkova ulica 22\, Cerkno\, 5282\, Slovenija
CATEGORIES:Predstavitev in debata
ATTACH;FMTTYPE=image/jpeg:https://cmakcerkno.net/wp-content/uploads/2015/03/strah-spred-svobodo.jpg
END:VEVENT
END:VCALENDAR