BEGIN:VCALENDAR
VERSION:2.0
PRODID:-//C.M.A.K. Cerkno - ECPv5.10.0//NONSGML v1.0//EN
CALSCALE:GREGORIAN
METHOD:PUBLISH
X-WR-CALNAME:C.M.A.K. Cerkno
X-ORIGINAL-URL:https://cmakcerkno.net
X-WR-CALDESC:Events for C.M.A.K. Cerkno
BEGIN:VTIMEZONE
TZID:Europe/Ljubljana
BEGIN:DAYLIGHT
TZOFFSETFROM:+0100
TZOFFSETTO:+0200
TZNAME:CEST
DTSTART:20210328T010000
END:DAYLIGHT
BEGIN:STANDARD
TZOFFSETFROM:+0200
TZOFFSETTO:+0100
TZNAME:CET
DTSTART:20211031T010000
END:STANDARD
END:VTIMEZONE
BEGIN:VEVENT
DTSTART;TZID=Europe/Ljubljana:20210925T200000
DTEND;TZID=Europe/Ljubljana:20210925T211500
DTSTAMP:20260421T020600
CREATED:20210919T114924Z
LAST-MODIFIED:20210919T114924Z
UID:4412-1632600000-1632604500@cmakcerkno.net
SUMMARY:StopTrik MFF (pred-dogodek)
DESCRIPTION:V Mariboru se 29. septembra prične 11. Mednarodni filmski festival StopTrik\, slovensko-poljski festival stop-motion animacije. Vikend pred tem bomo v Cerknem gostli pred-dogodek tega festivala\, na katerem bomo vrteli najboljše animacije njegove lanske edicije.\n\n \n\nTrajanje: 64′\nhttps://www.facebook.com/StopTrikFestival\nhttps://www.stoptrik.com/\n\n \n\nPROGRAM:\n\n \n\n01.\nGood Intentions / Dobre namere\nAnna Mantzaris (Royal College of Art)\n2018\, UK\, 8’35”After a young woman is responsible for a hit and run\, strange and spooky things start to happen… A small thriller about people that are not always the best at making decisions.\n\n \n\nPotem ko mlada ženska povzroči prometno nesrečo in pobegne\, se začnejo dogajati čudne in srhljive stvari … Majhen triler o ljudeh\, ki niso vedno najboljši pri sprejemanju odločitev.\n\n \n\n02.\nQuidquid Latine dictum sit\, altum videtur\nJulia Orlik (PWSFTviT Lodz)\n2019\, POL\, 15’The wire girl wonders what to do to be not out of wire. She is going on a journey to find a solution to her problem. Winner of O!PLA 2020 audience voting for best stop motion film.\n\n \n\nDekle iz žice se sprašuje\, kaj naj stori\, da več ne bi bila iz žice. Odpravi se na pot\, da bi rešila svoj problem. Zmagovalec glasovanja občinstva festivala O!PLA 2020 za najboljšo stop animacijo.\n\n \n\n03.\nNadirah: Coal Woman / Nadirah: rudarka\nNegar Elodie Behzadi\, Kate Jessop (The VEM King’s College London)\n2019\, UK\, 2’33In Kante\, a small village perched at 2000 metres in the Fann Mountains of Tajikistan\, the work of the 19 women miners who go mining everyday in the illegal coal mines is considered as ‘ayb’ (shameful). Based on a collaborative feminist art-research project between the animation artist\, Kate Jessop\, and the geographer and ethnographer\, NegarElodie Behzadi\, this film makes visible otherwise invisibilised stories of shame.\n\n \n\nV majhni vasici Kante\, ki leži 2000 metrov visoko v gorovju Fann v Tadžikistanu\, se delo devetnajstih rudark\, ki vsak dan rudarijo v nelegalnih premogovnikih\, smatra za (sramotno). Film\, ki temelji na skupnem feminističnem umetniško-raziskovalnem projektu umetnice animacije ter geografinje in etnografinje\, prikazuje sicer nevidne zgodbe o sramu.\n\n \n\n04.\nOstrich / Avestruz / Noj\nAgostina Ravazzola\n2019\, ARG\, 4’40”An ostrich\, an owl\, the flamingo\, a parrot\, the hummingbird and an eagle\, all of them dance\, run and fly by the Argentinian electro-folk of Barda & Sidirum´s amazing music. Colors and shapes dance and unite by a unique psychedelic endless rhythm. Handcrafted paper and love.\n\n \n\nNoj\, sova\, flamingo\, papiga\, kolibri in orel\, vsi plešejo\, tečejo in letijo ob argentinskem elektro-folku\, odlični glasbi\, ki jo izvajata Barda & Sidirum. Barve in oblike plešejo in se združujejo v edinstvenem\, psihedeličnem neskončnem ritmu. Rokodelska obdelava papirja in ljubezen.\n\n \n\n05.\nHierarchy Glitch / Hierarhična napaka\nVessela Dantcheva (Compote Collective)\n2019\, AUT\, BUL\, 6’35”In a purely abstract way “Hierarchy Glitch” deals with a core idea of the Common Good Economy model. Both visual patterns and the ensemble’s voices are tied up in hierarchical behaviour\, which restrains the full potential and mobility of each individual element.\n\n \n\nFilm na povsem abstrakten način obravnava temeljno idejo modela ekonomije skupnega dobrega. Tako vizualni vzorci kot glasovi ansambla so povezani v hierarhično vedenje\, kar omejuje polni potencial in mobilnost vsakega posameznega elementa.\n\n \n\n06.\nAnna\, Cat and Mouse / Anna\, mačka in miš\nVarya Yakovleva (PCHELA stoodio)\n2020\, RUS\, 5’26”Anna lives in comfortable loneliness until she becomes the object of aggressive lust of a neighbor from the window opposite.Violence breaks into her life.\n\n \n\nAnna živi v prijetni osamljenosti\, dokler ne postane predmet agresivnega poželenja soseda z nasprotnega okna. V njeno življenje vdre nasilje.\n\n \n\n07.\nBeyond Noh / No\, in tako naprej\nPatrick Smith (Kaori Ishida\, Patrick Smith)\n2020\, USA\, JPN\, 4’Beyond Noh rhythmically animates 3\,475 individual masks from all over the world\, beginning with the distinctive masks of the Japanese Noh theater and continuing on a cultural journey through ritual\, utility\, deviance\, and politics.\n\n \n\nRitmična animacija 3475 posameznih mask z vsega sveta\, ki se začenja z značilnimi maskami japonskega gledališča “no” in nadaljuje na kulturnem potovanju skozi ritual\, uporabnost\, deviantnost in politiko.\n\n \n\n08.\nThe Tower / Kula / Stolp\nSunčana Brkulj (Akademija za likovno umetnost)\n2020 \, CRO\, 3’58”As years and years go by\, a tiny civilization makes its way upwards.\n\n \n\nLeta minevajo\, majhna civilizacija pa se počasi pomika navzgor.\n\n \n\n09.\nChemicals – Parker Bossley\nJoseph Wallace (Cardel)\n2018\, UK\, 4’12”Parker Bossley takes a psychedelic trip\, metamorphosing into exotic animals and traveling through colourful landscapes in this cut-out animated music video.\n\n \n\nParker Bossley se v tem glasbenem videu\, izdelanem s tehniko kolažne animacije\, odpravi na psihedelično potovanje\, na katerem se pretvori v eksotične živali in potuje skozi pisane pokrajine.\n\n \n\n10.\nMachini\nTétshim & Frank Mukunday (Picha Twenty Nine Studio & Production)\n2019\, ITA\, BEL\, DRC (Kongo)\, 10’By necessity and especially by the force of the machine we have become sleepwalking beings deprived of God\, the damned of the earth and test subjects over the black market of history test subjects of the machine.\n\n \n\nIz nuje\, še posebej pa zaradi moči stroja\, smo postali mesečniki brez Boga\, pogubljenci tega planeta in poskusni zajčki na črnem trgu zgodovinskih testnih subjektov stroja.Iz nuje\, še posebej pa zaradi moči stroja\, smo postali mesečniki brez Boga\, pogubljenci tega planeta in poskusni zajčki na črnem trgu zgodovinskih testnih subjektov stroja.
URL:https://cmakcerkno.net/event/stoptrik-mff-pred-dogodek/
LOCATION:C.M.A.K. Cerkno\, Bevkova ulica 22\, Cerkno\, 5282\, Slovenija
CATEGORIES:Film
ATTACH;FMTTYPE=image/jpeg:https://cmakcerkno.net/wp-content/uploads/2021/09/01_GoodIntentions-Still1.jpg
END:VEVENT
END:VCALENDAR