BEGIN:VCALENDAR
VERSION:2.0
PRODID:-//C.M.A.K. Cerkno - ECPv5.10.0//NONSGML v1.0//EN
CALSCALE:GREGORIAN
METHOD:PUBLISH
X-WR-CALNAME:C.M.A.K. Cerkno
X-ORIGINAL-URL:https://cmakcerkno.net
X-WR-CALDESC:Events for C.M.A.K. Cerkno
BEGIN:VTIMEZONE
TZID:Europe/Ljubljana
BEGIN:DAYLIGHT
TZOFFSETFROM:+0100
TZOFFSETTO:+0200
TZNAME:CEST
DTSTART:20190331T010000
END:DAYLIGHT
BEGIN:STANDARD
TZOFFSETFROM:+0200
TZOFFSETTO:+0100
TZNAME:CET
DTSTART:20191027T010000
END:STANDARD
END:VTIMEZONE
BEGIN:VEVENT
DTSTART;TZID=Europe/Ljubljana:20190706T150000
DTEND;TZID=Europe/Ljubljana:20190706T235900
DTSTAMP:20260422T135226
CREATED:20190704T185857Z
LAST-MODIFIED:20190704T185857Z
UID:3597-1562425200-1562457540@cmakcerkno.net
SUMMARY:Smoke In piknik
DESCRIPTION:Piknik kolektiva Smoke In …
URL:https://cmakcerkno.net/event/smoke-in-piknik/
LOCATION:C.M.A.K. Cerkno\, Bevkova ulica 22\, Cerkno\, 5282\, Slovenija
CATEGORIES:Klubski večer
ATTACH;FMTTYPE=image/jpeg:https://cmakcerkno.net/wp-content/uploads/2015/12/COVER-FRONT.jpg
END:VEVENT
END:VCALENDAR