BEGIN:VCALENDAR
VERSION:2.0
PRODID:-//C.M.A.K. Cerkno - ECPv5.10.0//NONSGML v1.0//EN
CALSCALE:GREGORIAN
METHOD:PUBLISH
X-WR-CALNAME:C.M.A.K. Cerkno
X-ORIGINAL-URL:https://cmakcerkno.net
X-WR-CALDESC:Events for C.M.A.K. Cerkno
BEGIN:VTIMEZONE
TZID:Europe/Ljubljana
BEGIN:DAYLIGHT
TZOFFSETFROM:+0100
TZOFFSETTO:+0200
TZNAME:CEST
DTSTART:20150329T010000
END:DAYLIGHT
BEGIN:STANDARD
TZOFFSETFROM:+0200
TZOFFSETTO:+0100
TZNAME:CET
DTSTART:20151025T010000
END:STANDARD
END:VTIMEZONE
BEGIN:VEVENT
DTSTART;TZID=Europe/Ljubljana:20150424T220000
DTEND;TZID=Europe/Ljubljana:20150424T235500
DTSTAMP:20260422T135343
CREATED:20150406T094837Z
LAST-MODIFIED:20150406T094837Z
UID:1096-1429912800-1429919700@cmakcerkno.net
SUMMARY:Smoke In: Fresh Edition
DESCRIPTION:Prvič v letošnjem letu se bodo v CMAK-u\, 24. 4. ponovno tresle stene pod tech-house\, house in techno ritmi. Tokrat v goste prihajajo Gregor Striker\, Michael Schorix in Lexo. Domače barve Smoke In Crew-a pa bosta branila: De-Lima in Anything with Flavour. \nDJs: \nGREGOR STRIKER (Second Music)\nGregor Striker je glasbeni producent in DJ iz Maribora. Prve korake je delal na področju progressive house glasbe\, kasneje pa je začel hoditi po poti techna. Njegovi seti nikoli niso dolgočasni\, saj iz različnih zvrsti in trekov vsakič naredi novo zgodbo. Trenutno se osredotoča na produkcijo\, zato tudi večino svojega časa preživi v studiu.\nhttps://www.facebook.com/gregstriker.si?ref=hl\nhttps://soundcloud.com/gregor-striker \nMICHAEL SCHORIX (Second Music)\nhttps://www.facebook.com/michael.schorix\nhttps://soundcloud.com/michael-schorix \nDE-LIMA (Smoke in Crew)\nhttps://www.facebook.com/pages/De-Lima-DJ-Producer/149200498474615?ref=tn_tnmn\nhttps://soundcloud.com/de-lima \nANYTHING WITH FLAVOUR (Smoke in Crew)\nhttps://www.facebook.com/AnythingWithFlavour\nhttps://soundcloud.com/lucas-flash \nLEXO\nhttps://www.facebook.com/wlexo\nhttps://soundcloud.com/lexo_w \nGET READY TO BE SMOKED IN. 🙂
URL:https://cmakcerkno.net/event/smoke-in-fresh-edition/
LOCATION:C.M.A.K. Cerkno\, Bevkova ulica 22\, Cerkno\, 5282\, Slovenija
CATEGORIES:Klubski večer
ATTACH;FMTTYPE=image/jpeg:https://cmakcerkno.net/wp-content/uploads/2015/04/SmokeIn_freshEdition.jpg
END:VEVENT
END:VCALENDAR