BEGIN:VCALENDAR
VERSION:2.0
PRODID:-//C.M.A.K. Cerkno - ECPv5.10.0//NONSGML v1.0//EN
CALSCALE:GREGORIAN
METHOD:PUBLISH
X-WR-CALNAME:C.M.A.K. Cerkno
X-ORIGINAL-URL:https://cmakcerkno.net
X-WR-CALDESC:Events for C.M.A.K. Cerkno
BEGIN:VTIMEZONE
TZID:Europe/Ljubljana
BEGIN:DAYLIGHT
TZOFFSETFROM:+0100
TZOFFSETTO:+0200
TZNAME:CEST
DTSTART:20140330T010000
END:DAYLIGHT
BEGIN:STANDARD
TZOFFSETFROM:+0200
TZOFFSETTO:+0100
TZNAME:CET
DTSTART:20141026T010000
END:STANDARD
END:VTIMEZONE
BEGIN:VEVENT
DTSTART;TZID=Europe/Ljubljana:20141229T170000
DTEND;TZID=Europe/Ljubljana:20141230T200000
DTSTAMP:20260419T235536
CREATED:20141125T135429Z
LAST-MODIFIED:20141125T135429Z
UID:770-1419872400-1419969600@cmakcerkno.net
SUMMARY:SMALL BUT DANGERS - Deseti rojstni dan
DESCRIPTION:Obletnice so v postmodeni družbi pomembne\, saj pričajo o tem\, da je danes preddoločen z  njegovo prihodnostjo in preteklostjo.\nMateja Rojc in Simon Hudolin – Salči sta pred desetimi leti na razstavi Proces v C.M.A.K.-u združila moči pod skupnim imenom Small But Dangers. Taktiko odkrivanja lukenj in emancipatornih potencialov\, ki jih le te vsebujejo; taktiko\, ki sta jo skupaj s preostalo C.M.A.K.-ovo ekipo razvijala v Cerknem\, sta v tem času uspela razširiti v mednarodni kontekst. Da se v tem procesu ne bi pozabilo od kod izvira in potemtakem tudi kam gre\, (bo)sta pripravila razstavo v počastitev luknje iz katere prihajata.\nTokrat lukenj ne bosta “flikala”. Pokazala bosta\, da vsaka “flika” skriva luknjo\, da vsaka luknja skriva “fliko” in kar je še bolj pomembno\, da je vsaka “flika” lastna luknja. \nSmall but Dangers – Mateja Rojc in Simon Hudolin\, avtorja mlajše generacije\, nastopata pod imenom Small but Dangers. S slikarskimi deli\, kipi\, fotografijami\, avdiovizualnimi performansi in najdenimi predmeti sta vzbudila zanimanje publike kot nominiranca za Nagrado skupine OHO (2008); na razstavi U3 – 6. trienale sodobne umetnosti v Sloveniji v Moderni galeriji v Ljubljani (2010); na skupinskih in samostojnih razstavah v Centru in galeriji P74\, Galeriji Škuc\, Mestni galeriji v Ljubljani\, v Brot Kunsthalle na Dunaju\, Galeriji sodobne umetnosti v Celju\, Šok zadrugi v Novem Sadu\, Koroški galeriji likovnih umetnosti v Slovenj Gradcu itd. Od l. 2010 ju zastopa Center in galerija P74. V letu 2013 sta z Matijo Brumnom prejela drugo nagrado na natečaju Fotografija leta\, ki jo podeljuje revija Emzin. V študijskem letu 2013/14 sta v sklopu študijskih izmenjav prebivala v Novem Sadu. Pred kratkim pa sta se vrnila iz rezidenčnega programa v Freisingu v Nemčiji. \nhttp://smallbutdangers.cerkno.net
URL:https://cmakcerkno.net/event/small-but-dangers-deseti-rojstni-dan-2/
LOCATION:C.M.A.K. Cerkno\, Bevkova ulica 22\, Cerkno\, 5282\, Slovenija
CATEGORIES:Razstava
ATTACH;FMTTYPE=image/jpeg:https://cmakcerkno.net/wp-content/uploads/2014/11/SBD01.jpg
END:VEVENT
END:VCALENDAR