BEGIN:VCALENDAR
VERSION:2.0
PRODID:-//C.M.A.K. Cerkno - ECPv5.10.0//NONSGML v1.0//EN
CALSCALE:GREGORIAN
METHOD:PUBLISH
X-WR-CALNAME:C.M.A.K. Cerkno
X-ORIGINAL-URL:https://cmakcerkno.net
X-WR-CALDESC:Events for C.M.A.K. Cerkno
BEGIN:VTIMEZONE
TZID:Europe/Ljubljana
BEGIN:DAYLIGHT
TZOFFSETFROM:+0100
TZOFFSETTO:+0200
TZNAME:CEST
DTSTART:20150329T010000
END:DAYLIGHT
BEGIN:STANDARD
TZOFFSETFROM:+0200
TZOFFSETTO:+0100
TZNAME:CET
DTSTART:20151025T010000
END:STANDARD
END:VTIMEZONE
BEGIN:VEVENT
DTSTART;TZID=Europe/Ljubljana:20150425T210000
DTEND;TZID=Europe/Ljubljana:20150425T235500
DTSTAMP:20260422T122037
CREATED:20150330T154117Z
LAST-MODIFIED:20150406T173347Z
UID:1075-1429995600-1430006100@cmakcerkno.net
SUMMARY:Slovenska pank transverzala
DESCRIPTION:Nastopili bodo: \nPink Panker (Ponoviče)\nDrek u pest (Kranj/Ljubljana)\nHarry (Ajdovščina)\nStrgane Pazduhe (Ravne na Koroškem) \npAnkirnina = 3 € \nO transverzali: \nČe si je kdo upal trditi\, da se pank drži na nitki osnovnih življenjskih procesov\, je mogoče prav\, da mu v tem trenutku razjasnimo obzorja – gradi se namreč Slovenska Punk Transverzala (SPT). Čez njo in po njej bo razbijalo kar nekaj skupin trenutne scene.\n\nVerjetno ni bolj idealnega časa\, kot je sedaj\, da pank ponovno udari malo močneje. Če predpostavimo\, da je bil pojav panka posledica zdolgočasene mladine\, naveličane sistema in prepuščene same sebi\, lahko kar hitro najdemo vzporednice. \nPrometno pot so začeli asfaltirati Pink Panker (Litija). Samoiniciativno so poskrbeli za krovno organizacijo in medijsko podobo. Za širitev ceste v svojem okraju pa so se zavezali tudi Harry (Ajdovščina)\, Drek U Pest (Kranj) in Strgane Pazduhe (Ravne na Koroškem). Organizirali bodo vsak po vsaj en dogodek\, na katerega bodo povabili tudi lokalne pankerje. \nTransverzala bo ponudila osem angažiranih dogodkov v različnih regijah. Pot bo speljana čez Kranj\, Ljubljano\, Kočevje\, Trbovlje\, Slovenj Gradec\, Ajdovščino\, Cerkno in Maribor. V planu pa imajo tudi že nadgradnjo transverzale. \nBistvo dogodkov je\, da se delujoči bendi med seboj povežejo\, publiki pa ponudijo serijo koncertov. Organizatorji pravijo\, da se mora scena ponovno aktivirati in začeti bolj sodelovati\, kot je do sedaj. Kot potrdilo\, da podpirajo samoiniciativnost in pank dogodke\, pa obiskovalce pri vhodu čaka žig anarhije. \nSkratka\, pank scena bo znova udarila!
URL:https://cmakcerkno.net/event/slovenska-punk-tranzverzala/
LOCATION:C.M.A.K. Cerkno\, Bevkova ulica 22\, Cerkno\, 5282\, Slovenija
CATEGORIES:CMAKoncert
ATTACH;FMTTYPE=image/jpeg:https://cmakcerkno.net/wp-content/uploads/2015/03/25.-4.-CMAK.jpg
END:VEVENT
END:VCALENDAR