BEGIN:VCALENDAR
VERSION:2.0
PRODID:-//C.M.A.K. Cerkno - ECPv5.10.0//NONSGML v1.0//EN
CALSCALE:GREGORIAN
METHOD:PUBLISH
X-WR-CALNAME:C.M.A.K. Cerkno
X-ORIGINAL-URL:https://cmakcerkno.net
X-WR-CALDESC:Events for C.M.A.K. Cerkno
BEGIN:VTIMEZONE
TZID:Europe/Ljubljana
BEGIN:DAYLIGHT
TZOFFSETFROM:+0100
TZOFFSETTO:+0200
TZNAME:CEST
DTSTART:20180325T010000
END:DAYLIGHT
BEGIN:STANDARD
TZOFFSETFROM:+0200
TZOFFSETTO:+0100
TZNAME:CET
DTSTART:20181028T010000
END:STANDARD
END:VTIMEZONE
BEGIN:VEVENT
DTSTART;TZID=Europe/Ljubljana:20180304T200000
DTEND;TZID=Europe/Ljubljana:20180304T230000
DTSTAMP:20260421T160404
CREATED:20180107T120529Z
LAST-MODIFIED:20180226T211709Z
UID:2644-1520193600-1520204400@cmakcerkno.net
SUMMARY:Sihasin (ZDA)
DESCRIPTION:Sihasin je večkrat nagrajeni duo\, ki ga sestavljata Jeneda in Clayson Benally. Sestra in brat sta s svojo iskrenostjo in energičnostjo cerkljansko občinstvo že navdušila pred petimi leti na taboru Karajžewc\, tokrat pa se bosta v C.M.A.K.-u ustavila v okviru Festival DEUJE BABE.\nKot staroselca iz ljudstva Diné sta se rodila v jedro političnih in ozemeljskih sporov\, tam postavljena ograja pa ju je ločila od domovine in družine. Že med odraščanjem sta protestirala proti uničevanju narave in kulturnemu genocidu nad tradicionalnim življenjem njunega ljudstva.\nNjuna glasba združuje različne glasbene stile od punka\, rocka in ljudske glasbe. Beseda\, ki v jeziku Dinéjev pomeni upanje in pogum\, je temelj njunega zvoka. Bas\, bobni in vokali\, ki vključujejo tradicionalno petje in melodije njunega ljudstva\, ustvarjajo energijo\, ki te pusti z občutkom kot je »vstani\, dvigni se\, uporabi svoj glas in NAREDI!« Njun edinstven novi zvok nadaljuje z energijo upora proti ekološkim in družbenim krivicam.\nKot na taboru Karajžewc pred petimi leti lahko tudi v začetku marca pričakujete energičen koncert\, ki vas vsekakor ne bo pustil ravnodušnih. V C.M.A.K.-u bosta predstavila tudi njun prihajajoči album »Fight Like a Woman«\, ki bo\, kako priročno\, izšel prav meseca marca. \nVeč:\nFB: Sihasin\nWeb: http://sihasin.com/ \nVstopnina:\nZ rezervacijo na cmak.rezervacije@gmail.com = 5€\nNa dan dogodka = 7 €
URL:https://cmakcerkno.net/event/sihasin-zda/
CATEGORIES:CMAKoncert
ATTACH;FMTTYPE=image/jpeg:https://cmakcerkno.net/wp-content/uploads/2018/01/sihasin.jpg
END:VEVENT
END:VCALENDAR