BEGIN:VCALENDAR
VERSION:2.0
PRODID:-//C.M.A.K. Cerkno - ECPv5.10.0//NONSGML v1.0//EN
CALSCALE:GREGORIAN
METHOD:PUBLISH
X-WR-CALNAME:C.M.A.K. Cerkno
X-ORIGINAL-URL:https://cmakcerkno.net
X-WR-CALDESC:Events for C.M.A.K. Cerkno
BEGIN:VTIMEZONE
TZID:Europe/Ljubljana
BEGIN:DAYLIGHT
TZOFFSETFROM:+0100
TZOFFSETTO:+0200
TZNAME:CEST
DTSTART:20140330T010000
END:DAYLIGHT
BEGIN:STANDARD
TZOFFSETFROM:+0200
TZOFFSETTO:+0100
TZNAME:CET
DTSTART:20141026T010000
END:STANDARD
END:VTIMEZONE
BEGIN:VEVENT
DTSTART;TZID=Europe/Ljubljana:20141220T220000
DTEND;TZID=Europe/Ljubljana:20141221T030000
DTSTAMP:20260421T133055
CREATED:20141210T105726Z
LAST-MODIFIED:20141210T105856Z
UID:851-1419112800-1419130800@cmakcerkno.net
SUMMARY:Second Vape Release Party
DESCRIPTION:Tudi v letošnjem letu bo skupina Smoke in crew pod okriljem C.M.A.K.-a izdala kompilacijo\, na kateri se bo tokrat predstavilo kar pet lokalnih producentov elektronske glasbe. Izdajo kompilacije Smoke in – Second Vape\, ki bo 15. decembra izšla na spletnem naslovu: http://cmak.bandcamp.com\, bo seveda pospremil tudi releaseparty! \nVstop: 3 EUR \nPrvih 50 obiskovalcev bo prejelo CD izvod kompilacije! \nDJ’s: \n\nSchvigalo\nDe-Lima http://soundcloud.com/de-lima\, http://www.mixcloud.com/DjDeLima/\nAnything With Flavour http://soundcloud.com/anything-with-flavour\nTade http://soundcloud.com/tade\nLoMas http://soundcloud.com/dj-lomas\n\nGet ready to be smoked in – with Second Vape! 🙂
URL:https://cmakcerkno.net/event/second-vape-release-party/
LOCATION:C.M.A.K. Cerkno\, Bevkova ulica 22\, Cerkno\, 5282\, Slovenija
CATEGORIES:Klubski večer
ATTACH;FMTTYPE=image/jpeg:https://cmakcerkno.net/wp-content/uploads/2014/12/release-party.jpg
END:VEVENT
END:VCALENDAR