BEGIN:VCALENDAR
VERSION:2.0
PRODID:-//C.M.A.K. Cerkno - ECPv5.10.0//NONSGML v1.0//EN
CALSCALE:GREGORIAN
METHOD:PUBLISH
X-WR-CALNAME:C.M.A.K. Cerkno
X-ORIGINAL-URL:https://cmakcerkno.net
X-WR-CALDESC:Events for C.M.A.K. Cerkno
BEGIN:VTIMEZONE
TZID:Europe/Ljubljana
BEGIN:DAYLIGHT
TZOFFSETFROM:+0100
TZOFFSETTO:+0200
TZNAME:CEST
DTSTART:20180325T010000
END:DAYLIGHT
BEGIN:STANDARD
TZOFFSETFROM:+0200
TZOFFSETTO:+0100
TZNAME:CET
DTSTART:20181028T010000
END:STANDARD
END:VTIMEZONE
BEGIN:VEVENT
DTSTART;VALUE=DATE:20180113
DTEND;VALUE=DATE:20180128
DTSTAMP:20260420T090830
CREATED:20180107T113530Z
LAST-MODIFIED:20180107T113530Z
UID:2623-1515801600-1517097599@cmakcerkno.net
SUMMARY:Sara Kovačič: fotografska razstava presne hrane
DESCRIPTION:Sara Kovačič je mlada fotografinja iz Tolmina\, ki je decembra 2017 zaključila študij fotografije v Ljubljani. Za diplomsko delo je na izviren način fotografirala presno hrano. Fotografije so nastajale s pomočjo potrpežljivih asistentov v Tolminskih koritih\, pri Babji jami in drugje ob reki Soči. \nOtvoritev razstave bo v soboto\, 13. januarja 2018\, ob 19h v galeriji Križišče v MC C.M.A.K. Cerkno. \nRazstava bo na ogled do 27. januarja 2018. \nVabljeni!
URL:https://cmakcerkno.net/event/sara-kovacic-fotografska-razstava-presne-hrane/
CATEGORIES:Razstava
ATTACH;FMTTYPE=image/jpeg:https://cmakcerkno.net/wp-content/uploads/2018/01/sara_kovacic.jpg
END:VEVENT
END:VCALENDAR