BEGIN:VCALENDAR
VERSION:2.0
PRODID:-//C.M.A.K. Cerkno - ECPv5.10.0//NONSGML v1.0//EN
CALSCALE:GREGORIAN
METHOD:PUBLISH
X-WR-CALNAME:C.M.A.K. Cerkno
X-ORIGINAL-URL:https://cmakcerkno.net
X-WR-CALDESC:Events for C.M.A.K. Cerkno
BEGIN:VTIMEZONE
TZID:Europe/Ljubljana
BEGIN:DAYLIGHT
TZOFFSETFROM:+0100
TZOFFSETTO:+0200
TZNAME:CEST
DTSTART:20150329T010000
END:DAYLIGHT
BEGIN:STANDARD
TZOFFSETFROM:+0200
TZOFFSETTO:+0100
TZNAME:CET
DTSTART:20151025T010000
END:STANDARD
END:VTIMEZONE
BEGIN:VEVENT
DTSTART;TZID=Europe/Ljubljana:20151113T200000
DTEND;TZID=Europe/Ljubljana:20151113T213000
DTSTAMP:20260421T122658
CREATED:20151015T145243Z
LAST-MODIFIED:20151022T165913Z
UID:1571-1447444800-1447450200@cmakcerkno.net
SUMMARY:Revolucija v Rojavi: za kaj se pravzaprav borijo Kurdi
DESCRIPTION:Predavanje Arneta Zupančiča\, sodelavca in dopisnika Radia Študent. \nJulija 2012 se je v mestu Kobane začela revolucija\, ki se je razširila na vso Rojavo\, severni del Sirije. Medtem ko je Arabska pomlad v preostalo Sirijo spremenila v totalno državljansko vojno\, so se prebivalci Rojave znebili Assadovega režima in začeli vpeljevati svojo obliko demokracije. Prebivalci se samoupravno organizirajo prek svetov\, kjer je pomembno\, da so integrirani tako moški kot ženske ter pripadniki vseh verskih in etničnih manjšin. V boju za Kobane so množični mediji svetu prvič bolj ali manj podrobno predstavili kurdsko gibanje\, ki se pod vodstvom v Turčiji zaprtega Abdulaha Ocalana že od leta ’84 bori ne le za lastne narodne pravice\, temveč vodi socialno revolucijo\, ki naj bi v (vedno bolj) islamiziranih Turčiji\, Siriji\, Iranu in Iraku popolnoma spremenila družbene odnose. Predavanje bo skušalo prikazati kompleksnost kurdskega boja za pravice žensk\, manjšin\, otrok ter lastno avtonomijo v geopolitičnem kaosu Bližnjega vzhoda.
URL:https://cmakcerkno.net/event/revolucija-v-rojavi/
LOCATION:C.M.A.K. Cerkno\, Bevkova ulica 22\, Cerkno\, 5282\, Slovenija
CATEGORIES:Predavanje
ATTACH;FMTTYPE=image/jpeg:https://cmakcerkno.net/wp-content/uploads/2015/10/foto-1.jpg
END:VEVENT
END:VCALENDAR