BEGIN:VCALENDAR
VERSION:2.0
PRODID:-//C.M.A.K. Cerkno - ECPv5.10.0//NONSGML v1.0//EN
CALSCALE:GREGORIAN
METHOD:PUBLISH
X-WR-CALNAME:C.M.A.K. Cerkno
X-ORIGINAL-URL:https://cmakcerkno.net
X-WR-CALDESC:Events for C.M.A.K. Cerkno
BEGIN:VTIMEZONE
TZID:Europe/Ljubljana
BEGIN:DAYLIGHT
TZOFFSETFROM:+0100
TZOFFSETTO:+0200
TZNAME:CEST
DTSTART:20180325T010000
END:DAYLIGHT
BEGIN:STANDARD
TZOFFSETFROM:+0200
TZOFFSETTO:+0100
TZNAME:CET
DTSTART:20181028T010000
END:STANDARD
END:VTIMEZONE
BEGIN:VEVENT
DTSTART;TZID=Europe/Ljubljana:20180119T180000
DTEND;TZID=Europe/Ljubljana:20180120T030000
DTSTAMP:20260420T081323
CREATED:20180107T114452Z
LAST-MODIFIED:20180107T114452Z
UID:2628-1516384800-1516417200@cmakcerkno.net
SUMMARY:Release party kompilacije Smoke In - "Frisky"
DESCRIPTION:Tudi v letošnjem letu so mladi DJ-i in producenti pod okriljem Smoke In Crew in MC C.M.A.K. Cerkno izdali kompilacijo\, na kateri se je že peto leto zapored tokrat predstavilo kar pet lokalnih producentov elektronske glasbe. Izdajo kompilacije “Frisky” bo seveda pospremil tudi release party\, ki bo v MC C.M.A.K. Cerkno 19. januarja 2018\, z začetkom ob 18h. \nS pozitivnimi in prijetnimi ritmi nas bodo ogreli: \nEliaz\nsoundcloud.com/eliazg \nAnything With Flavour\nsoundcloud.com/anything-with-flavour \nAndraž Vidmar\nsoundcloud.com/andra-vidmar  \nGašper De-Lima Tavčar\nsoundcloud.com/de-lima \nThomas L\nhttps://soundcloud.com/thomas-l96
URL:https://cmakcerkno.net/event/release-party-kompilacije-smoke-in-frisky/
CATEGORIES:Izdajamo,Klubski večer
ATTACH;FMTTYPE=image/jpeg:https://cmakcerkno.net/wp-content/uploads/2018/01/frisky.jpg
END:VEVENT
END:VCALENDAR