BEGIN:VCALENDAR
VERSION:2.0
PRODID:-//C.M.A.K. Cerkno - ECPv5.10.0//NONSGML v1.0//EN
CALSCALE:GREGORIAN
METHOD:PUBLISH
X-WR-CALNAME:C.M.A.K. Cerkno
X-ORIGINAL-URL:https://cmakcerkno.net
X-WR-CALDESC:Events for C.M.A.K. Cerkno
BEGIN:VTIMEZONE
TZID:Europe/Ljubljana
BEGIN:DAYLIGHT
TZOFFSETFROM:+0100
TZOFFSETTO:+0200
TZNAME:CEST
DTSTART:20210328T010000
END:DAYLIGHT
BEGIN:STANDARD
TZOFFSETFROM:+0200
TZOFFSETTO:+0100
TZNAME:CET
DTSTART:20211031T010000
END:STANDARD
END:VTIMEZONE
BEGIN:VEVENT
DTSTART;TZID=Europe/Ljubljana:20211016T180000
DTEND;TZID=Europe/Ljubljana:20211105T190000
DTSTAMP:20260421T002844
CREATED:20211010T173402Z
LAST-MODIFIED:20211010T173439Z
UID:4444-1634407200-1636138800@cmakcerkno.net
SUMMARY:Razstava risb Čopičeva 32 – Tara Caruso Bizjak / OTVORITEV GALERIJE STOPNIŠČE
DESCRIPTION:Novi (začasni) prostori\, nove razstave\, v novi galeriji!\nOtvorili jo bomo v soboto\, 16. oktobra ob 18.00\, ko se bo z razstavo svojih risb predstavila mlada umetnica Tara Caruso Bizjak iz Idrije.\n\n\nTara Caruso Bizjak riše že nekaj let. Intenzivno je začela takrat\, ko si karirastih zvezkov ni več želela zapolnjevati z ničimer drugim kot le s svojimi črno belimi risbicami. Tokrat se predstavlja z manjšim naborom le teh\, ki govorijo o mestu\, hiškah in njej.\n\n\nVabljeni na otvoritev!\nVstop je prost.\n\n\nRazstava bo odprta do 5. novembra do 19.00\, ogled bo možen vsak dan med 8.00 in 19.00 uro.
URL:https://cmakcerkno.net/event/razstava-risb-copiceva-32-tara-caruso-bizjak-otvoritev-galerije-stopnisce/
LOCATION:Galerija Stopnišče\, Bevkova 22\, Cerkno\, 5282\, Slovenija
CATEGORIES:Razstava
END:VEVENT
END:VCALENDAR