BEGIN:VCALENDAR
VERSION:2.0
PRODID:-//C.M.A.K. Cerkno - ECPv5.10.0//NONSGML v1.0//EN
CALSCALE:GREGORIAN
METHOD:PUBLISH
X-WR-CALNAME:C.M.A.K. Cerkno
X-ORIGINAL-URL:https://cmakcerkno.net
X-WR-CALDESC:Events for C.M.A.K. Cerkno
BEGIN:VTIMEZONE
TZID:Europe/Ljubljana
BEGIN:DAYLIGHT
TZOFFSETFROM:+0100
TZOFFSETTO:+0200
TZNAME:CEST
DTSTART:20150329T010000
END:DAYLIGHT
BEGIN:STANDARD
TZOFFSETFROM:+0200
TZOFFSETTO:+0100
TZNAME:CET
DTSTART:20151025T010000
END:STANDARD
END:VTIMEZONE
BEGIN:VEVENT
DTSTART;TZID=Europe/Ljubljana:20151003T190000
DTEND;TZID=Europe/Ljubljana:20151024T200000
DTSTAMP:20260422T122037
CREATED:20150924T134913Z
LAST-MODIFIED:20151006T162039Z
UID:1519-1443898800-1445716800@cmakcerkno.net
SUMMARY:Rock'n'art - razstava Petra Udoviča
DESCRIPTION:Peter Udovič prihaja iz Kubeda v okolici Črnega Kala. Kot pravi\, je že kot otrok rad opazoval slikarje\, kiparje\, umetnike na ulicah in se nad tem svetom že zgodaj navdušil. \nV osnovni šoli je prvič sodeloval na otroških Ex- temporah. Takrat je tudi prvič poizkusil slikati na platno in tako se je rodila velika ljubezen\, katero je dokončno poglobil v prostem času srednješolskega izobraževanja in jo nadaljuje še danes. \nMotive največkrat črpa iz sveta\, ki ga obdaja in iz stvari\, ki ga osrečujejo. Velik poudarek pri njegovih delih ima tudi glasba\, brez katere si ne predstavlja življenja. Obožuje delo s pozitivnimi in toplimi barvami\, vendar niso vse umetnine takšne\, tako kot je življenje … \nV zadnjih nekaj letih je imel že nekaj samostojnih slikarskih razstav (predvsem na Primorski)\, v prihodnosti pa\, kot pravi\, upa še na kakšno tudi izven njegove regije … \n 
URL:https://cmakcerkno.net/event/razstava-petra-udovica/
LOCATION:C.M.A.K. Cerkno\, Bevkova ulica 22\, Cerkno\, 5282\, Slovenija
CATEGORIES:Razstava
ATTACH;FMTTYPE=image/jpeg:https://cmakcerkno.net/wp-content/uploads/2015/09/Fotografija-0476.jpg
END:VEVENT
END:VCALENDAR