BEGIN:VCALENDAR
VERSION:2.0
PRODID:-//C.M.A.K. Cerkno - ECPv5.10.0//NONSGML v1.0//EN
CALSCALE:GREGORIAN
METHOD:PUBLISH
X-WR-CALNAME:C.M.A.K. Cerkno
X-ORIGINAL-URL:https://cmakcerkno.net
X-WR-CALDESC:Events for C.M.A.K. Cerkno
BEGIN:VTIMEZONE
TZID:Europe/Ljubljana
BEGIN:DAYLIGHT
TZOFFSETFROM:+0100
TZOFFSETTO:+0200
TZNAME:CEST
DTSTART:20230326T010000
END:DAYLIGHT
BEGIN:STANDARD
TZOFFSETFROM:+0200
TZOFFSETTO:+0100
TZNAME:CET
DTSTART:20231029T010000
END:STANDARD
END:VTIMEZONE
BEGIN:VEVENT
DTSTART;TZID=Europe/Ljubljana:20230519T150000
DTEND;TZID=Europe/Ljubljana:20230618T200000
DTSTAMP:20260420T092653
CREATED:20230510T194827Z
LAST-MODIFIED:20230523T195008Z
UID:5217-1684508400-1687118400@cmakcerkno.net
SUMMARY:Razstava: Pank ni mrtu\, je recikliran - Petja Kolenko // Mladi v Stopnišču
DESCRIPTION:V petek ob 15.00 otvorimo letošnji cikel razstav mladih umetnikov in umetnic\, “Mladi v Stopnišču 2023”!\n\n \n\nKot prva se nam bo predstavila Petja Kolenko\, vizualna umetnica in likovna pedagoginja\, ki živi in ustvarja v Ljutomeru.\n\n \n\n \n\nPetjino likovno izražanje zaznamujeta ponovna uporaba in recikliraža različnih odpadnih materialov ter odsluženih likovnih del. Te predeluje v različnih tehnikah\, najpogosteje pa se poslužuje tehnike kolaža. V zadnjih letih se intenzivno ukvarja z reciklažo odpadnih plastičnih mas – nakupovalnih plastičnih vrečk\, folij\, embalaže in podobno\, ki jih obdeluje s posebno tehniko\, poimenovano kolaž iz termično obdelanih plastičnih mas.\n\n \n\nIdeje za motive svojih del črpa iz besedil popularnih pesmi\, katerih vsebino likovno prevaja kot dobesedno ilustracijo ali upodablja glede na osebno doživljanje. Z izbranimi glasbenimi deli\, ki jih likovno opisuje\, se intimno istoveti\, preko njih komunicira z okolico\, izraža telesna in čustvena stanja ter asociacije na skrite želje ali spomine\, zato lahko dela označimo tudi kot avtoportrete.\n\n \n\nDela vsebinsko motivično obravnavajo tudi številne okoljske in družbene problematike ter izpostavljajo vprašanje ženske vloge v družbi. Dela so medsebojno stilsko raznolika\, slogoven spoj stripovske\, ulične in sodobne umetnosti tvori Petjin specifični likovni jezik\, za katerega je značilno upodabljanje prizorov urbane kulture ter simbolne estetike izbranih glasbenih žanrov.\n\n \n\nVabljeni in vabljene na otvoritev in ogled razstave!\nRazstava bo na voljo na ogled do 18. junija.\n\n \nPetja Kolenko – Fotka z otvoritve 18. junija
URL:https://cmakcerkno.net/event/razstava-pank-ni-mrtu-je-recikliran-petja-kolenko-mladi-v-stopniscu/
LOCATION:Galerija Stopnišče\, Bevkova 22\, Cerkno\, 5282\, Slovenija
CATEGORIES:Razstava
END:VEVENT
END:VCALENDAR