BEGIN:VCALENDAR
VERSION:2.0
PRODID:-//C.M.A.K. Cerkno - ECPv5.10.0//NONSGML v1.0//EN
CALSCALE:GREGORIAN
METHOD:PUBLISH
X-WR-CALNAME:C.M.A.K. Cerkno
X-ORIGINAL-URL:https://cmakcerkno.net
X-WR-CALDESC:Events for C.M.A.K. Cerkno
BEGIN:VTIMEZONE
TZID:Europe/Ljubljana
BEGIN:DAYLIGHT
TZOFFSETFROM:+0100
TZOFFSETTO:+0200
TZNAME:CEST
DTSTART:20150329T010000
END:DAYLIGHT
BEGIN:STANDARD
TZOFFSETFROM:+0200
TZOFFSETTO:+0100
TZNAME:CET
DTSTART:20151025T010000
END:STANDARD
END:VTIMEZONE
BEGIN:VEVENT
DTSTART;TZID=Europe/Ljubljana:20151025T190000
DTEND;TZID=Europe/Ljubljana:20151113T210000
DTSTAMP:20260420T031626
CREATED:20151006T162119Z
LAST-MODIFIED:20151019T155701Z
UID:1546-1445799600-1447448400@cmakcerkno.net
SUMMARY:Iz modrine in vode - razstava Nine Simonovič
DESCRIPTION:Nina Simonovič (1990) prihaja iz Lucije. Po zaključeni Umetniški gimnaziji v Kopru je svoj študij nadaljevala v Ljubljani na Pedagoški fakulteti\, kjer je tudi diplomirala in si pridobila naziv profesorice likovnega pouka. Trenutno nadaljuje svoj študij likovne pedagogike na drugi stopnji\, hkrati pa prostovoljno vodi likovne delavnice v Centru starejših občanov Trnovo. \nSkozi leta šolskega pa tudi domačega ustvarjanja\, se še kar išče v različnih organskih oblikah\, vodenih potezah in modrih odtenkih. Element vode jo spremlja že od otroštva\, še danes pogosto ”kapne” v njene motive. \n”Vse od tretjega ali četrtega razreda osnovne šole mi je všeč modra barva. Z leti mi je le še bolj prirasla k srcu. Začelo me je zanimati več o njej. \nMeni osebno modra predstavlja dom. Tisto barvo\, v kateri se jaz počutim jaz in v njej najdem svoj mir. Najverjetneje tudi zato\, ker se ujema z mojim značajem in me neizogibno spominja na vodo. Če bi morala izbirati med odtenki modre\, bi se odločila za ultramarin\, ki meni predstavlja najčistejšo in najbolj izrazito modro. Zaradi njegove navidezne žametnosti\, moči in teže pa ga je težko sprejemati na velikih površinah. Zato je toliko bolj čaroben\, ko se preliva s svetlejšimi odtenki sebe\, torej ko se meša z belo. Takrat dobi svojo igrivost\, sanjskost in mehkobo.”
URL:https://cmakcerkno.net/event/razstava-nine-simonovic/
LOCATION:C.M.A.K. Cerkno\, Bevkova ulica 22\, Cerkno\, 5282\, Slovenija
CATEGORIES:Razstava
ATTACH;FMTTYPE=image/jpeg:https://cmakcerkno.net/wp-content/uploads/2015/10/IMG_20151011_145433.jpg
END:VEVENT
END:VCALENDAR