BEGIN:VCALENDAR
VERSION:2.0
PRODID:-//C.M.A.K. Cerkno - ECPv5.10.0//NONSGML v1.0//EN
CALSCALE:GREGORIAN
METHOD:PUBLISH
X-WR-CALNAME:C.M.A.K. Cerkno
X-ORIGINAL-URL:https://cmakcerkno.net
X-WR-CALDESC:Events for C.M.A.K. Cerkno
BEGIN:VTIMEZONE
TZID:Europe/Ljubljana
BEGIN:DAYLIGHT
TZOFFSETFROM:+0100
TZOFFSETTO:+0200
TZNAME:CEST
DTSTART:20210328T010000
END:DAYLIGHT
BEGIN:STANDARD
TZOFFSETFROM:+0200
TZOFFSETTO:+0100
TZNAME:CET
DTSTART:20211031T010000
END:STANDARD
BEGIN:DAYLIGHT
TZOFFSETFROM:+0100
TZOFFSETTO:+0200
TZNAME:CEST
DTSTART:20220327T010000
END:DAYLIGHT
BEGIN:STANDARD
TZOFFSETFROM:+0200
TZOFFSETTO:+0100
TZNAME:CET
DTSTART:20221030T010000
END:STANDARD
END:VTIMEZONE
BEGIN:VEVENT
DTSTART;TZID=Europe/Ljubljana:20211127T180000
DTEND;TZID=Europe/Ljubljana:20220102T200000
DTSTAMP:20260421T130411
CREATED:20211120T191256Z
LAST-MODIFIED:20211228T113657Z
UID:4528-1638036000-1641153600@cmakcerkno.net
SUMMARY:Razstava: #NARAVANIBIZNIS - Društvo glasbenikov in ljubiteljev glasbe
DESCRIPTION:#AusLoHg #idrija\n#NARAVANIBIZNIS\n\n\nVabljeni in vabljene v galerijo Stopnišče na vhodu Večnamenskega centra Cerkno\, na razstavo potopisne fotografije\, ki so jo iz popotniških slik sestavili člani Društva ljubiteljev glasbe iz Idrije. \n\n\n\nRazstavljalci in oblikovalci so: Peternel Boštjan\, Frelih Petra\, Celestina Robert\, Linda Bolčina\, Jani Praprotnik\, Petra Gruden\, Robert Rus\, Luka Carli\, Sabina Lidjan\, oblikovalca pa sta Miha Grošelj in Erik Vovnik. \n\n\n\nOtvoritve v živo tokrat ne bo. Pač pridite mimo\, kadar vam zapaše. Pa napišite kak vtis v knjigo razstav 🙂 \n\n\nRazstavo si boste lahko ogledali od sobote popoldne dalje. Odprta je vsak dan\, stala pa bo do 17. decembra.
URL:https://cmakcerkno.net/event/razstava-naravanibiznis-drustvo-glasbenikov-in-ljubiteljev-glasbe/
LOCATION:Galerija Stopnišče\, Bevkova 22\, Cerkno\, 5282\, Slovenija
CATEGORIES:Razstava
ATTACH;FMTTYPE=image/jpeg:https://cmakcerkno.net/wp-content/uploads/2021/11/dva.jpg
END:VEVENT
END:VCALENDAR