BEGIN:VCALENDAR
VERSION:2.0
PRODID:-//C.M.A.K. Cerkno - ECPv5.10.0//NONSGML v1.0//EN
CALSCALE:GREGORIAN
METHOD:PUBLISH
X-WR-CALNAME:C.M.A.K. Cerkno
X-ORIGINAL-URL:https://cmakcerkno.net
X-WR-CALDESC:Events for C.M.A.K. Cerkno
BEGIN:VTIMEZONE
TZID:Europe/Ljubljana
BEGIN:DAYLIGHT
TZOFFSETFROM:+0100
TZOFFSETTO:+0200
TZNAME:CEST
DTSTART:20220327T010000
END:DAYLIGHT
BEGIN:STANDARD
TZOFFSETFROM:+0200
TZOFFSETTO:+0100
TZNAME:CET
DTSTART:20221030T010000
END:STANDARD
END:VTIMEZONE
BEGIN:VEVENT
DTSTART;TZID=Europe/Ljubljana:20220107T080000
DTEND;TZID=Europe/Ljubljana:20220206T200000
DTSTAMP:20260420T031503
CREATED:20220108T191933Z
LAST-MODIFIED:20220205T175540Z
UID:4624-1641542400-1644177600@cmakcerkno.net
SUMMARY:Razstava: Na vroči strani Alp - Umanotera
DESCRIPTION:Prva letošnja razstava »Na vroči strani Alp« orisuje posledice podnebnih sprememb\, ki jih bomo v Sloveniji občutili\, če ne bomo hitro in odločno zmanjšali izpustov toplogrednih plinov. \n\n\n\n\nNjen poglavitni namen je prikazati\, da podnebne spremembe predstavljajo resno grožnjo življenju\, kot ga poznamo danes\, a da hkrati še ni vse izgubljeno: še vedno namreč lahko ublažimo podnebno krizo in se taki prihodnosti izognemo. \n\n\n\nRazstavo si lahko brezplačno ogledate do 4. februarja v galeriji Stopnišče (vhod v Večnamenski center Cerkno).
URL:https://cmakcerkno.net/event/razstava-na-vroci-strani-alp-umanotera/
LOCATION:Galerija Stopnišče\, Bevkova 22\, Cerkno\, 5282\, Slovenija
CATEGORIES:Razstava
ATTACH;FMTTYPE=image/jpeg:https://cmakcerkno.net/wp-content/uploads/2022/01/navrocistranialpfinito3.jpg
END:VEVENT
END:VCALENDAR