BEGIN:VCALENDAR
VERSION:2.0
PRODID:-//C.M.A.K. Cerkno - ECPv5.10.0//NONSGML v1.0//EN
CALSCALE:GREGORIAN
METHOD:PUBLISH
X-WR-CALNAME:C.M.A.K. Cerkno
X-ORIGINAL-URL:https://cmakcerkno.net
X-WR-CALDESC:Events for C.M.A.K. Cerkno
BEGIN:VTIMEZONE
TZID:Europe/Ljubljana
BEGIN:DAYLIGHT
TZOFFSETFROM:+0100
TZOFFSETTO:+0200
TZNAME:CEST
DTSTART:20210328T010000
END:DAYLIGHT
BEGIN:STANDARD
TZOFFSETFROM:+0200
TZOFFSETTO:+0100
TZNAME:CET
DTSTART:20211031T010000
END:STANDARD
END:VTIMEZONE
BEGIN:VEVENT
DTSTART;TZID=Europe/Ljubljana:20211106T180000
DTEND;TZID=Europe/Ljubljana:20211126T180000
DTSTAMP:20260420T210644
CREATED:20211030T181650Z
LAST-MODIFIED:20211117T131833Z
UID:4469-1636221600-1637949600@cmakcerkno.net
SUMMARY:Razstava: Misli se ne da z vodo sprati - Blažka Gantar
DESCRIPTION:To soboto se bo zgodila že 2. razstava v novonastali galeriji Stopnišče. Predstavila se bo mlada umetnica Blažka Gantar z razstavo: Misli se ne da z vodo sprati. \n\n\n\nBlažka Gantar je umetnica po duši\, ki svojo ljubezen do pisanja poezije poskuša upodobiti na različne načine. Tokrat vam bo delček svojih misli predstavila v svojih grafikah. \n\n\n\nOtvoritev razstave bo v soboto\, 6. novembra ob 18.00 v galeriji Stopnišče (vhod v Večnamenski center Cerkno).Ogledali si jo boste lahko do 26. novembra. \nProgram je delno financiran s strani Občine Cerkno.
URL:https://cmakcerkno.net/event/razstava-misli-se-ne-da-z-vodo-sprati-blazka-gantar/
LOCATION:Galerija Stopnišče\, Bevkova 22\, Cerkno\, 5282\, Slovenija
CATEGORIES:Razstava
END:VEVENT
END:VCALENDAR