BEGIN:VCALENDAR
VERSION:2.0
PRODID:-//C.M.A.K. Cerkno - ECPv5.10.0//NONSGML v1.0//EN
CALSCALE:GREGORIAN
METHOD:PUBLISH
X-WR-CALNAME:C.M.A.K. Cerkno
X-ORIGINAL-URL:https://cmakcerkno.net
X-WR-CALDESC:Events for C.M.A.K. Cerkno
BEGIN:VTIMEZONE
TZID:Europe/Ljubljana
BEGIN:DAYLIGHT
TZOFFSETFROM:+0100
TZOFFSETTO:+0200
TZNAME:CEST
DTSTART:20220327T010000
END:DAYLIGHT
BEGIN:STANDARD
TZOFFSETFROM:+0200
TZOFFSETTO:+0100
TZNAME:CET
DTSTART:20221030T010000
END:STANDARD
END:VTIMEZONE
BEGIN:VEVENT
DTSTART;TZID=Europe/Ljubljana:20220416T190000
DTEND;TZID=Europe/Ljubljana:20220513T190000
DTSTAMP:20260421T034824
CREATED:20220411T193135Z
LAST-MODIFIED:20220411T193641Z
UID:4752-1650135600-1652468400@cmakcerkno.net
SUMMARY:Razstava: Micelij misli - Larisa Peternelj / Mladi v Stopnišču
DESCRIPTION:Tretjo letošnjo razstavo za “Cmakovih 25” bomo otvorili to soboto\, 16.4. ob 19.00 v galeriji Stopnišče. \n\n\n\n\nTokrat se nam bo predstavila mlada lokalna slikarka Larisa Peternelj\, z razstavo “Micelij misli”.\n\nO svojih delih Larisa pravi takole:\n\n\n“Slikam na platno in papir\, najraje z oljnimi barvami\, včasih pa se poslužujem tudi akrilnih.\n\nMotive odkrivam v naravi\, najbolj me navdihujejo drevesa in gobe\, pogosto pa naslikam tudi ljudi. Prizore pa priredim po svoji domišljiji in jim dodam pravljičen pridih.” \n\n\n\n\n\nRazstava bo na voljo za ogled do 13.5.\, vsak dan od ponedeljka do petka med 8.00 in 19.00. \n\n\n\n\nVabljeneni!
URL:https://cmakcerkno.net/event/razstava-micelij-misli-larisa-peternelj-mladi-v-stopniscu/
LOCATION:Galerija Stopnišče\, Bevkova 22\, Cerkno\, 5282\, Slovenija
CATEGORIES:Razstava
END:VEVENT
END:VCALENDAR