BEGIN:VCALENDAR
VERSION:2.0
PRODID:-//C.M.A.K. Cerkno - ECPv5.10.0//NONSGML v1.0//EN
CALSCALE:GREGORIAN
METHOD:PUBLISH
X-WR-CALNAME:C.M.A.K. Cerkno
X-ORIGINAL-URL:https://cmakcerkno.net
X-WR-CALDESC:Events for C.M.A.K. Cerkno
BEGIN:VTIMEZONE
TZID:Europe/Ljubljana
BEGIN:DAYLIGHT
TZOFFSETFROM:+0100
TZOFFSETTO:+0200
TZNAME:CEST
DTSTART:20190331T010000
END:DAYLIGHT
BEGIN:STANDARD
TZOFFSETFROM:+0200
TZOFFSETTO:+0100
TZNAME:CET
DTSTART:20191027T010000
END:STANDARD
END:VTIMEZONE
BEGIN:VEVENT
DTSTART;TZID=Europe/Ljubljana:20191123T170000
DTEND;TZID=Europe/Ljubljana:20191204T200000
DTSTAMP:20260422T140015
CREATED:20191109T153523Z
LAST-MODIFIED:20191109T153523Z
UID:3718-1574528400-1575489600@cmakcerkno.net
SUMMARY:Razstava del šablonskega sitotiska
DESCRIPTION:Razstava del\, nastalih na Delavnici šablonskega sitotiska z Neveno Aleksovski.
URL:https://cmakcerkno.net/event/razstava-del-sablonskega-sitotiska/
LOCATION:MC C.M.A.K.\, Močnikova ulica 3\, Cerkno\, 5282\, Slovenija
CATEGORIES:Razstava
ATTACH;FMTTYPE=image/jpeg:https://cmakcerkno.net/wp-content/uploads/2019/11/Delavnica.Nevenau.jpg
END:VEVENT
END:VCALENDAR