BEGIN:VCALENDAR
VERSION:2.0
PRODID:-//C.M.A.K. Cerkno - ECPv5.10.0//NONSGML v1.0//EN
CALSCALE:GREGORIAN
METHOD:PUBLISH
X-WR-CALNAME:C.M.A.K. Cerkno
X-ORIGINAL-URL:https://cmakcerkno.net
X-WR-CALDESC:Events for C.M.A.K. Cerkno
BEGIN:VTIMEZONE
TZID:Europe/Ljubljana
BEGIN:DAYLIGHT
TZOFFSETFROM:+0100
TZOFFSETTO:+0200
TZNAME:CEST
DTSTART:20150329T010000
END:DAYLIGHT
BEGIN:STANDARD
TZOFFSETFROM:+0200
TZOFFSETTO:+0100
TZNAME:CET
DTSTART:20151025T010000
END:STANDARD
END:VTIMEZONE
BEGIN:VEVENT
DTSTART;TZID=Europe/Ljubljana:20151107T210000
DTEND;TZID=Europe/Ljubljana:20151107T235500
DTSTAMP:20260421T140036
CREATED:20151006T161139Z
LAST-MODIFIED:20151102T195738Z
UID:1538-1446930000-1446940500@cmakcerkno.net
SUMMARY:Apeirofobija: Sirup za izkašljevanje\, Anti Slaughter in Human Host Body
DESCRIPTION:Apeirofobija\, strah pred neskončnostjo\, letos ga bomo pregnali z vstopom v neskončno morje glasbe\nFestival malo drugačne in zanimive glasbe. \nNASTOPAJOČI: \nS.Z.I. ali SIRUP ZA IZKAŠLJEVANJE so star crust bend\, ki je obeleževal domačo punk sceno že konec 90-ih. Zaman boste iskali njihovo spletno stran\, facebook profil in druge socialne razvade saj so še vedno zvesti »old school« načinu življenja. Letos tudi z vami na našem festivalu. \n  \n  \n  \nANTI SLAUGHTER so mlad bend iz obalnega juga slovenije. Preigravajo HC punk. V svoji glasbi opevajo različne vrste tematik\, kot so anarho-veganska\, proti korpoacijska\, proti rasistcna in še in še. Letos tudi z vami na našem festivalu. \n  \n  \nHUMAN HOST BODY je band\, ki igra metal za punxe. Besedila so politično angažirana\, predvsem se dotikajo tematike anarho-primitivizma\, anarhije in drugih nelagodjih\, ki jih povzroča civilizacija. Žanrsko se gibljejo med d-beat crustom\, stenchcoreom in black/death metalom. Bendi kot so Hellshock ter Iskra so jim v zadnjem obdobju referenčna točka. \nVstop: 3€
URL:https://cmakcerkno.net/event/primorskapunk-2015/
LOCATION:C.M.A.K. Cerkno\, Bevkova ulica 22\, Cerkno\, 5282\, Slovenija
CATEGORIES:Koncert
ATTACH;FMTTYPE=image/jpeg:https://cmakcerkno.net/wp-content/uploads/2015/10/apeirofobija.jpg
END:VEVENT
END:VCALENDAR