BEGIN:VCALENDAR
VERSION:2.0
PRODID:-//C.M.A.K. Cerkno - ECPv5.10.0//NONSGML v1.0//EN
CALSCALE:GREGORIAN
METHOD:PUBLISH
X-WR-CALNAME:C.M.A.K. Cerkno
X-ORIGINAL-URL:https://cmakcerkno.net
X-WR-CALDESC:Events for C.M.A.K. Cerkno
BEGIN:VTIMEZONE
TZID:Europe/Ljubljana
BEGIN:DAYLIGHT
TZOFFSETFROM:+0100
TZOFFSETTO:+0200
TZNAME:CEST
DTSTART:20190331T010000
END:DAYLIGHT
BEGIN:STANDARD
TZOFFSETFROM:+0200
TZOFFSETTO:+0100
TZNAME:CET
DTSTART:20191027T010000
END:STANDARD
END:VTIMEZONE
BEGIN:VEVENT
DTSTART;TZID=Europe/Ljubljana:20191207T190000
DTEND;TZID=Europe/Ljubljana:20191207T200000
DTSTAMP:20260421T225939
CREATED:20191117T142044Z
LAST-MODIFIED:20191118T120948Z
UID:3750-1575745200-1575748800@cmakcerkno.net
SUMMARY:Predstavitev knjige Revolucija v Rožavi
DESCRIPTION:V knjigi Revolucija v Rožavi: demokratična avtonomija in osvoboditev žensk v sirskem Kurdistanu (Inštitut Časopis za kritiko znanosti\, 2019) Anja Flach\, Ercan Ayboga in Michael Knapp izčrpno opišejo delovanje struktur in institucij neposredne demokracije\, ki so se v času državljanske vojne in intervencij regionalnih ter globalnih imperialističnih sil razvile v multietničnih in multireligioznih predelih severne Sirije. Kurdsko gibanje za samoodločbo v Siriji je uspelo preseči meje med etničnimi in religioznimi skupnostmi\, v jedru tega projekta pa je osvoboditev žensk in razgradnja patriarhalnih družbenih vzorcev in institucij. \nKnjigo bosta v pogovoru\, ki se bo navezal tudi na film Kdo se boji ideologije? (II. del)\, predstavili Petra Meterc\, soprevajalka knjige\, in Anja Zalta\, sociologinja religije in poznavalka (kršenja) pravic manjšin na turško-sirski meji.  \nPETRA METERC je zaključila študij anglistike in polonistike na Univerzi v Ljubljani. Je nekdanja urednica literarne oddaje Tu pa tam na Radiu Študent\, ki sloni na delu mladih\, še neuveljavljenih prevajalcev ter slovenskim bralcem predstavlja še nepoznane sodobne avtorje. Prevaja iz poljščine in angleščine ter piše literarne in filmske kritike.  \nANJA ZALTA je docentka za sociologijo religije na Oddelku za sociologijo Filozofske fakultete v Ljubljani\, kjer predava predmete s področja sociologije religije. Njeno raziskovalno delo se osredotoča na vprašanje islama v Evropi\, pravic religijskih manjšin\, spola in religije ter možnosti transformacij verskih konfliktov.  \nOrganizira MC C.M.A.K. Cerkno.
URL:https://cmakcerkno.net/event/predstavitev-knjige-revolucija-v-rozavi/
LOCATION:MC C.M.A.K.\, Močnikova ulica 3\, Cerkno\, 5282\, Slovenija
CATEGORIES:Predstavitev in debata
ATTACH;FMTTYPE=image/jpeg:https://cmakcerkno.net/wp-content/uploads/2019/11/Revolucija-v-Rožavi-predstavitev-knjige.jpg
END:VEVENT
END:VCALENDAR