BEGIN:VCALENDAR
VERSION:2.0
PRODID:-//C.M.A.K. Cerkno - ECPv5.10.0//NONSGML v1.0//EN
CALSCALE:GREGORIAN
METHOD:PUBLISH
X-WR-CALNAME:C.M.A.K. Cerkno
X-ORIGINAL-URL:https://cmakcerkno.net
X-WR-CALDESC:Events for C.M.A.K. Cerkno
BEGIN:VTIMEZONE
TZID:Europe/Ljubljana
BEGIN:DAYLIGHT
TZOFFSETFROM:+0100
TZOFFSETTO:+0200
TZNAME:CEST
DTSTART:20210328T010000
END:DAYLIGHT
BEGIN:STANDARD
TZOFFSETFROM:+0200
TZOFFSETTO:+0100
TZNAME:CET
DTSTART:20211031T010000
END:STANDARD
END:VTIMEZONE
BEGIN:VEVENT
DTSTART;TZID=Europe/Ljubljana:20210924T190000
DTEND;TZID=Europe/Ljubljana:20210924T210000
DTSTAMP:20260421T040221
CREATED:20210915T112928Z
LAST-MODIFIED:20210915T182956Z
UID:4400-1632510000-1632517200@cmakcerkno.net
SUMMARY:Predstavitev knjige: Po svoji poti: 25 izletov po zgodovini žensk / Bevkovi dnevi 2021
DESCRIPTION:Cerkljanski mladinski alternativni klub v sodelovanju z Bevkovo knjižnico Cerkno\, Mestom žensk in LTO\nLaufar Cerkno\, v petek\, 24. septembra\, ob 19. uri v Bevkovi knjižnici Cerkno organizira predstavitev knjige Po svoji poti: 25 izletov po zgodovini žensk. \n \nTuristični vodnik\, ki ga je junija letos izdalo društvo Mesto žensk\, vabi k obisku petindvajsetih krajev\, tudi Cerknega in Idrije. Vključuje mesta in vasi\, v katerih so živele in delovale pionirke\, ki so ženskam na Slovenskem utirale pot v poklicno življenje. Kliče k odpravam po poteh revolucionark\, ki so se borile za dostojno življenje\, in prvih žensk\, ki so se smele preživljati s plačanim delom. Številne med njimi za sabo niso pustile otipljivih sledi\, zato v vodniku poleg pričakovanih izletniških točk\, kot so gradovi\, domačije\, muzeji in galerije\, najdemo vrsto drugih\, manj običajnih prizorišč: javni trg\, most\, botanični vrt in gostilno. Za lažje načrtovanje poti dvojezično knjižno izdajo vodnika dopolnjuje brezplačni spletni zemljevid WoW Places. \nPredgovor h knjigi je napisala Svetlana Slapšak\, avtorice besedil so Ana Cergol Paradiž\, Manca G. Renko\, Tea Hvala\, Jasmina Jerant\, Katja Pur\, Urška Repar\, Irena Selišnik\, Urška Strle\, Petra Testen Koren in Nina Vodopivec. \nNaj se veselo\, sočutno\, strastno in zvedavo potovanje po zgodovini žensk začne! \nKnjigo bo predstavila urednica Tea Hvala\, pogovor bo povezoval Gregor Novaković. \nVabljeni\, vabljene!\nObisk je mogoč ob izpolnjevanju pogojev PCT. \nDogodek je brezplačen in poteka v okviru Bevkovih dnevov 2021 ob podpori Občine Cerkno.
URL:https://cmakcerkno.net/event/predstavitev-knjige-po-svoji-poti-25-izletov-po-zgodovini-zensk-bevkovi-dnevi-2021/
LOCATION:Bevkova knjižnica Cerkno\, Platiševa ulica 5\, Cerkno\, 5282\, Slovenija
CATEGORIES:Literarni večer
END:VEVENT
END:VCALENDAR