BEGIN:VCALENDAR
VERSION:2.0
PRODID:-//C.M.A.K. Cerkno - ECPv5.10.0//NONSGML v1.0//EN
CALSCALE:GREGORIAN
METHOD:PUBLISH
X-WR-CALNAME:C.M.A.K. Cerkno
X-ORIGINAL-URL:https://cmakcerkno.net
X-WR-CALDESC:Events for C.M.A.K. Cerkno
BEGIN:VTIMEZONE
TZID:Europe/Ljubljana
BEGIN:DAYLIGHT
TZOFFSETFROM:+0100
TZOFFSETTO:+0200
TZNAME:CEST
DTSTART:20230326T010000
END:DAYLIGHT
BEGIN:STANDARD
TZOFFSETFROM:+0200
TZOFFSETTO:+0100
TZNAME:CET
DTSTART:20231029T010000
END:STANDARD
END:VTIMEZONE
BEGIN:VEVENT
DTSTART;TZID=Europe/Ljubljana:20231021T190000
DTEND;TZID=Europe/Ljubljana:20231119T210000
DTSTAMP:20260422T002711
CREATED:20231012T111955Z
LAST-MODIFIED:20231103T130304Z
UID:5320-1697914800-1700427600@cmakcerkno.net
SUMMARY:Potuj skozi moje oči – Julijen Mekuč // Razstava Mladi v Stopnišču
DESCRIPTION:Na oktobrsko-novembrski razstavi se nam bo predstavil mlad fotograf in ilustrator Julijen Mekuč iz Grosuplja. \n \nVabljeni na otvoritev to soboto ob 19.00! \nO razstavi pove tako:\nSerija z naslovom “Potuj skozi moje oči”\, je skupek avtorskih fotografij\, ki predstavljajo različne evropske kraje\, ujete trenutke\, ki obiskovalcu približajo lepoto le teh krajev. Poleg fotografij pa je skupek tudi ilustracij \,saj gojim neimerno ljubezen do obeh umetniških področij. \nPo otvoritvi lepo vabljeni tudi na koncert Klubski maraton 23 – Jolted + Bregove dere! \nRazstava bo na voljo za ogled do 19. novembra. \nProjekt podpirajo: Javni sklad za kulturne dejavnosti\, Občina Cerkno in Urad za Mladino RS.
URL:https://cmakcerkno.net/event/potuj-skozi-moje-oci-julijen-mekuc-razstava-mladi-v-stopniscu/
LOCATION:Galerija Stopnišče\, Bevkova 22\, Cerkno\, 5282\, Slovenija
CATEGORIES:Razstava
END:VEVENT
END:VCALENDAR