BEGIN:VCALENDAR
VERSION:2.0
PRODID:-//C.M.A.K. Cerkno - ECPv5.10.0//NONSGML v1.0//EN
CALSCALE:GREGORIAN
METHOD:PUBLISH
X-WR-CALNAME:C.M.A.K. Cerkno
X-ORIGINAL-URL:https://cmakcerkno.net
X-WR-CALDESC:Events for C.M.A.K. Cerkno
BEGIN:VTIMEZONE
TZID:Europe/Ljubljana
BEGIN:DAYLIGHT
TZOFFSETFROM:+0100
TZOFFSETTO:+0200
TZNAME:CEST
DTSTART:20220327T010000
END:DAYLIGHT
BEGIN:STANDARD
TZOFFSETFROM:+0200
TZOFFSETTO:+0100
TZNAME:CET
DTSTART:20221030T010000
END:STANDARD
END:VTIMEZONE
BEGIN:VEVENT
DTSTART;TZID=Europe/Ljubljana:20221214T180000
DTEND;TZID=Europe/Ljubljana:20221217T185240
DTSTAMP:20260422T122707
CREATED:20221205T182653Z
LAST-MODIFIED:20221217T185240Z
UID:5015-1671040800-1671303160@cmakcerkno.net
SUMMARY:Potopisna projekcija in predavanje "Pod morjem okoli sveta" - Andrej Voje
DESCRIPTION:Podvodni fotograf in snemalec Andrej Voje nas bo popeljal v čudoviti svet pod vodno gladino. Razkril nam bo skrivnosti potopljenih razbitin in popeljal med pisane koralne vrtove. Skupaj z njim se bomo podali v neskončno modrino in opazovali kite\, delfine\, mante in številne ribje jate. Razkril nam bo\, kako je iskal skrite bisere – drobna bitja\, ki se skrivajo v zavetju koralnih grebenov. Od blizu bomo opazovali različne vrste morskih psov\, na koncu pa nas čaka še eno veliko presenečenje.\n\nAndrej Voje je podvodni fotograf in snemalec\, ki že 30 let raziskuje svet pod morsko gladino. Za seboj ima že več kot 1300 potopov\, potapljal pa se je v vseh treh oceanih in morjih šestih kontinentov. Podvodni fotoaparat ga spremlja že od prvih potopov\, kasneje pa ga je nadomestila podvodna kamera. Barvitost koralnih grebenov\, pestrost podvodnega življenja in spokojna tišina neskončne modrine je le nekaj razlogov\, da se je svetu pod morsko gladino zapisal za vse življenje.\n\nAndrej Voje je avtor več samostojnih fotografskih razstav v Sloveniji in tudi v tujini. S različnimi podvodnimi projekcijami je gostoval širom po Sloveniji. Sodeloval je na več tekmovanjih in festivalih podvodne fotografije\, kjer je prejel tudi nekaj nagrad. Kot zunanji sodelavec je sodeloval je z RTV Slovenija pri ustvarjanju oddaje Med Valovi. Svoje podvodne dogodivščine je delil z bralci večine slovenskih revij in časopisov. Dve njegovi zgodbi je objavila tudi ugledna revija National Geographic. Med svojim raziskovanjem neskončnih modrin pa je na morskem dnu naletel tudi na čisto pravi gusarski zaklad.\n\nDogodek poteka v sklopu cikla CmaKino\, ki ga sofinancira Občina Cerkno.
URL:https://cmakcerkno.net/event/potopisna-projekcija-in-predavanje-pod-morjem-okoli-sveta-andrej-voje/
LOCATION:MC CMAK Cerkno\, Predavalnica VCC\, Bevkova 22
CATEGORIES:Predavanje
END:VEVENT
END:VCALENDAR