BEGIN:VCALENDAR
VERSION:2.0
PRODID:-//C.M.A.K. Cerkno - ECPv5.10.0//NONSGML v1.0//EN
CALSCALE:GREGORIAN
METHOD:PUBLISH
X-WR-CALNAME:C.M.A.K. Cerkno
X-ORIGINAL-URL:https://cmakcerkno.net
X-WR-CALDESC:Events for C.M.A.K. Cerkno
BEGIN:VTIMEZONE
TZID:Europe/Ljubljana
BEGIN:DAYLIGHT
TZOFFSETFROM:+0100
TZOFFSETTO:+0200
TZNAME:CEST
DTSTART:20150329T010000
END:DAYLIGHT
BEGIN:STANDARD
TZOFFSETFROM:+0200
TZOFFSETTO:+0100
TZNAME:CET
DTSTART:20151025T010000
END:STANDARD
END:VTIMEZONE
BEGIN:VEVENT
DTSTART;TZID=Europe/Ljubljana:20151030T190000
DTEND;TZID=Europe/Ljubljana:20151030T200000
DTSTAMP:20260420T120620
CREATED:20150826T103754Z
LAST-MODIFIED:20151006T161331Z
UID:1462-1446231600-1446235200@cmakcerkno.net
SUMMARY:Posluh!
DESCRIPTION:V Kulturnem društvu Mladinski center IndiJanez že tretje leto izvajajo program Posluh! Program je namenjen mladim\, da se srečajo z drugačnostjo mladih z manj priložnostmi.Del programa so predstavitve po mladinskih centrih in srednjih šolah\, ki jih izvajajo mladi z manj priložnostmi. Mladim orišejo svojo situacijo\, življenjsko zgodbo\, s čimer rušijo stereotipe\, obenem pa širijo razumevanje do drugačnosti.Šolska ura bo zasnovana v navezavi s strokovnjaki\, katerih varovanci so mladi z manj priložnostmi\, ki bodo prisotni na predstavitvi. Predstavitev bo zajemala predstavite težav s katerimi se soočajo mladi z manj priložnostmi (slepota\, invalidnost\, spolna identiteta\, alkoholizem\, mladi priseljenci ipd.). Poudarek je na mladostnikovi osebno-izpovedni zgodbi\, ki dijakom omogoči\, da se postavijo v kožo mladega z manj priložnostmi. Ura je dopolnjena še z interaktivnimi nalogami za dijake\, ki prispevajo k razumevanju področja tematike oz. problematike.
URL:https://cmakcerkno.net/event/posluh/
LOCATION:C.M.A.K. Cerkno\, Bevkova ulica 22\, Cerkno\, 5282\, Slovenija
CATEGORIES:Predstavitev in debata
ATTACH;FMTTYPE=image/jpeg:https://cmakcerkno.net/wp-content/uploads/2015/08/posluh.jpg
END:VEVENT
END:VCALENDAR