BEGIN:VCALENDAR
VERSION:2.0
PRODID:-//C.M.A.K. Cerkno - ECPv5.10.0//NONSGML v1.0//EN
CALSCALE:GREGORIAN
METHOD:PUBLISH
X-WR-CALNAME:C.M.A.K. Cerkno
X-ORIGINAL-URL:https://cmakcerkno.net
X-WR-CALDESC:Events for C.M.A.K. Cerkno
BEGIN:VTIMEZONE
TZID:Europe/Ljubljana
BEGIN:DAYLIGHT
TZOFFSETFROM:+0100
TZOFFSETTO:+0200
TZNAME:CEST
DTSTART:20150329T010000
END:DAYLIGHT
BEGIN:STANDARD
TZOFFSETFROM:+0200
TZOFFSETTO:+0100
TZNAME:CET
DTSTART:20151025T010000
END:STANDARD
END:VTIMEZONE
BEGIN:VEVENT
DTSTART;TZID=Europe/Ljubljana:20150221T210000
DTEND;TZID=Europe/Ljubljana:20150221T235500
DTSTAMP:20260421T181543
CREATED:20150129T152008Z
LAST-MODIFIED:20150213T170211Z
UID:939-1424552400-1424562900@cmakcerkno.net
SUMMARY:Polnoletnica C.M.A.K.-a z Raggalution in TminTafari Sound
DESCRIPTION:Osemnajsto obletnico C.M.A.K.-a bomo proslavili v raggae ritmih\, in sicer s kranjsko skupino Raggalution in t’minskim kolektivom TminTafari Sound.\nZa ljubezen\, mir\, svobodo in C.M.A.K.! 🙂\nVstopnina 3€. \nRaggalution\nSkupina Raggalution je rezultat sodelovanja sedmih prijateljev\, ki jih je združila ena sama ideja; igranje reggae glasbe. Ekipa se je začela sestavljati leta 2011\, že od samega začetka pa so začeli ustvarjati avtorsko glasbo. Maja 2012 je sledil premierni koncert na Večeru neuveljavljenih skupin Tedna mladih v Kranju\, na katerem je band pridobil simpatije občinstva. \nPozitiven odziv publike jim je dal dodaten zagon in motiv za nadaljnje delo. Tako imajo fantje do sedaj za sabo že kar lepo število koncertov\, oder pa so si delili z nekaterimi uveljavljenimi imeni slovenske in regionalne glasbene scene. \nSedaj se skupina predstavlja s svojim prvencem “Mask of Liberty”\, na katerem je zbranih deset avtorskih pesmi\, ki predvsem predstavljajo kritiko stanju v družbi in opozarjajo na drugačno\, boljšo alternativo. \nDecembra so nastopili v oddaji Aritmija na RTVSLO. \nZasedbo sestavljajo: Mak Sever – bas; Luka Bedene – vokal; Nejc Košnik – bobni; Žiga Fazarinc – kitara; Jure Grahek – klaviature; Leon Slabe – trobenta\, bekvokal; Jernej Jenko – tolkala \nhttps://www.facebook.com/Raggalution\nhttp://www.raggalution.com/\nhttp://raggalution.bandcamp.com/ \nTminTafari Sound\nTrije mladi ljubitelji reggaeja so se leta 2012 povezali z namenom širiti reggae glasbo in kulturo ter jo približati tako mlajšim kot starejšim. Po nekaj nastopih širom Slovenije\, so nastopili tudi na največjem tovrstnem dogodku pri nas\, Overjam reggae festivalu 2013.V svojih nastopih vrtijo Dub\, Roots rock reggae ter raggamuffin zvrst glasbe. \nhttps://www.facebook.com/tmintafari\nhttps://soundcloud.com/tmintafarisound
URL:https://cmakcerkno.net/event/polnoletnica-c-m-a-k-a/
LOCATION:C.M.A.K. Cerkno\, Bevkova ulica 22\, Cerkno\, 5282\, Slovenija
CATEGORIES:CMAKoncert
ATTACH;FMTTYPE=image/jpeg:https://cmakcerkno.net/wp-content/uploads/2015/01/lev01.jpg
END:VEVENT
END:VCALENDAR