BEGIN:VCALENDAR
VERSION:2.0
PRODID:-//C.M.A.K. Cerkno - ECPv5.10.0//NONSGML v1.0//EN
CALSCALE:GREGORIAN
METHOD:PUBLISH
X-WR-CALNAME:C.M.A.K. Cerkno
X-ORIGINAL-URL:https://cmakcerkno.net
X-WR-CALDESC:Events for C.M.A.K. Cerkno
BEGIN:VTIMEZONE
TZID:Europe/Ljubljana
BEGIN:DAYLIGHT
TZOFFSETFROM:+0100
TZOFFSETTO:+0200
TZNAME:CEST
DTSTART:20160327T010000
END:DAYLIGHT
BEGIN:STANDARD
TZOFFSETFROM:+0200
TZOFFSETTO:+0100
TZNAME:CET
DTSTART:20161030T010000
END:STANDARD
END:VTIMEZONE
BEGIN:VEVENT
DTSTART;TZID=Europe/Ljubljana:20160206T170000
DTEND;TZID=Europe/Ljubljana:20160227T210000
DTSTAMP:20260421T224958
CREATED:20160203T152214Z
LAST-MODIFIED:20160203T152214Z
UID:1771-1454778000-1456606800@cmakcerkno.net
SUMMARY:Po svetu - razstava potopisne in podvodne fotografije
DESCRIPTION:Galerija Križišče vabi na razstavo članov in članic društva glasbenikov in ljubitelje glasbe – DGLG.Sodelujoči na razstavi: Boštjan Peternel\, Petra Frelih\, Robert Celestina\, Miha Grošelj\, Jani Praprotnik\, Linda Bolčina\, Petra Gruden in Robert Rus. Razstava bo odprta od 6.2. do 28. 2.\, in sicer od ponedeljka do sobote\, od 17h do 21h.Vabljene/-i!
URL:https://cmakcerkno.net/event/po-svetu-razstava-potopisne-in-podvodne-fotografije/
LOCATION:C.M.A.K. Cerkno\, Bevkova ulica 22\, Cerkno\, 5282\, Slovenija
CATEGORIES:Razstava
ATTACH;FMTTYPE=image/jpeg:https://cmakcerkno.net/wp-content/uploads/2016/02/Traditional-Village-Santo.jpg
END:VEVENT
END:VCALENDAR