BEGIN:VCALENDAR
VERSION:2.0
PRODID:-//C.M.A.K. Cerkno - ECPv5.10.0//NONSGML v1.0//EN
CALSCALE:GREGORIAN
METHOD:PUBLISH
X-WR-CALNAME:C.M.A.K. Cerkno
X-ORIGINAL-URL:https://cmakcerkno.net
X-WR-CALDESC:Events for C.M.A.K. Cerkno
BEGIN:VTIMEZONE
TZID:Europe/Ljubljana
BEGIN:DAYLIGHT
TZOFFSETFROM:+0100
TZOFFSETTO:+0200
TZNAME:CEST
DTSTART:20140330T010000
END:DAYLIGHT
BEGIN:STANDARD
TZOFFSETFROM:+0200
TZOFFSETTO:+0100
TZNAME:CET
DTSTART:20141026T010000
END:STANDARD
END:VTIMEZONE
BEGIN:VEVENT
DTSTART;TZID=Europe/Ljubljana:20141208T170000
DTEND;TZID=Europe/Ljubljana:20141216T200000
DTSTAMP:20260421T122827
CREATED:20141204T201016Z
LAST-MODIFIED:20141204T201016Z
UID:832-1418058000-1418760000@cmakcerkno.net
SUMMARY:Pišem za pravice - maraton pisanja apelov
DESCRIPTION:Maraton pisanja apelov in peticij bo v mladinskem centru C.M.A.K. potekal od 8. do 16. 12. 2014\, vsak dan od 17h do 20h. \nLani so ljudje iz 143 držav napisali 2.373.422 apelov v podporo ogroženim skupinam in posameznikom. In kaj se je zgodilo potem? \nYorm Bopha\, kamboška aktivistka\, je bila izpuščena\, prav tako ruski miroljubni protestnik Vladimir Akimenkov in Jaber Meiri. Ta je v Tuniziji v zaporu preživel kar dve leti\, zgolj zato\, ker je na spletu objavil članke in stripe\, ki so bili označeni kot žaljivi do islamske vere. To sta le dve od dobrih novic\, več si jih lahko preberete tu. \nPridružite se maratonu pisanja apelov Pišem za pravice – najbolj množičnemu svetovnemu dogodku za človekove pravice. Tisoči po svetu se bomo združili in s svojimi pismi pomagali ljudem\, ki trpijo zaradi kršitev človekovih pravic. \nZa pravice lahko pišete preko spleta\, tako da se samo podpišete pod pripravljen apel\, ali s svinčnikom na papirju ali prsti na tipkovnici napišete svoje pismo. Vsako pismo šteje. \nNaša resnična moč pa je\, da naslovnika “zasujemo” s stotisoči pisem\, zato vas vabimo tudi\, da organizirate še pravi dogodek pisanja ali podpisovanja apelov\, kjer boste k pisanju povabili tudi druge. \nVeč si preberite tukaj ali v zloženki Pišem za pravice 2014.
URL:https://cmakcerkno.net/event/pisem-za-pravice-maraton-pisanja-apelov/
LOCATION:C.M.A.K. Cerkno\, Bevkova ulica 22\, Cerkno\, 5282\, Slovenija
CATEGORIES:Vplivamo
ATTACH;FMTTYPE=image/png:https://cmakcerkno.net/wp-content/uploads/2014/12/logo2.png
END:VEVENT
END:VCALENDAR