BEGIN:VCALENDAR
VERSION:2.0
PRODID:-//C.M.A.K. Cerkno - ECPv5.10.0//NONSGML v1.0//EN
CALSCALE:GREGORIAN
METHOD:PUBLISH
X-WR-CALNAME:C.M.A.K. Cerkno
X-ORIGINAL-URL:https://cmakcerkno.net
X-WR-CALDESC:Events for C.M.A.K. Cerkno
BEGIN:VTIMEZONE
TZID:Europe/Ljubljana
BEGIN:DAYLIGHT
TZOFFSETFROM:+0100
TZOFFSETTO:+0200
TZNAME:CEST
DTSTART:20150329T010000
END:DAYLIGHT
BEGIN:STANDARD
TZOFFSETFROM:+0200
TZOFFSETTO:+0100
TZNAME:CET
DTSTART:20151025T010000
END:STANDARD
END:VTIMEZONE
BEGIN:VEVENT
DTSTART;TZID=Europe/Ljubljana:20151201T170000
DTEND;TZID=Europe/Ljubljana:20151228T210000
DTSTAMP:20260421T194043
CREATED:20151201T100505Z
LAST-MODIFIED:20151201T100505Z
UID:1668-1448989200-1451336400@cmakcerkno.net
SUMMARY:Pišem za pravice - maraton pisanja apelov in podpisovanja peticij 2015
DESCRIPTION:Maraton pisanja apelov in podpisovanja peticij bo v mladinskem centru C.M.A.K. potekal od 1. do 28. 12. 2015\, vsak dan\, razen nedelj\, od 17h do 21h.Pridružite se ljudem iz več kot 200 držav in ozemelj\, ki bodo novembra in decembra na različnih dogodkih v lokalih\, šolah\, na ulicah\, v mladinskih centrih spet napisali na milijone pisem\, e-sporočil\, tvitov in peticij za ljudi\, ki so v nevarnosti ali se jim godi krivica. Tako bodo izvajali pritisk na oblasti\, voditelje in odločevalce\, da kršitve odpravijo\, pa tudi izražali naklonjenost in podporo žrtvam kršitev človekovih pravic in njihovim družinam.Na vsakoletnem maratonu pisanja apelov Pišem za pravice vas letos med drugim vabimo\, da se zavzamete za ljudi\, ki so jih mučili ali so zaprti zaradi svojih mnenj\, ter za mladoletna dekleta\, prisiljena v poroko. Glede Slovenije lahko podpišete peticijo za ljudi\, ki živijo v negotovosti v dveh romskih naseljih\, ali izrazite dobrodošlico beguncem.Tako lahko ob mednarodnemu dnevu človekovih pravic\, ki ga obeležujemo 10. decembra\, pripomorete k spremembam – izpustitvi aktivistov\, obsodbi mučiteljev\, spremembi neustreznih zakonov… In lepšate življenja!Več na http://www.amnesty.si/pisem-za-pravice-maraton
URL:https://cmakcerkno.net/event/pisem-za-pravice-maraton-pisanja-apelov-in-podpisovanja-peticij-2015/
LOCATION:C.M.A.K. Cerkno\, Bevkova ulica 22\, Cerkno\, 5282\, Slovenija
CATEGORIES:Vplivamo
ATTACH;FMTTYPE=image/jpeg:https://cmakcerkno.net/wp-content/uploads/2015/12/stran-logo.jpg
END:VEVENT
END:VCALENDAR