BEGIN:VCALENDAR
VERSION:2.0
PRODID:-//C.M.A.K. Cerkno - ECPv5.10.0//NONSGML v1.0//EN
CALSCALE:GREGORIAN
METHOD:PUBLISH
X-WR-CALNAME:C.M.A.K. Cerkno
X-ORIGINAL-URL:https://cmakcerkno.net
X-WR-CALDESC:Events for C.M.A.K. Cerkno
BEGIN:VTIMEZONE
TZID:Europe/Ljubljana
BEGIN:DAYLIGHT
TZOFFSETFROM:+0100
TZOFFSETTO:+0200
TZNAME:CEST
DTSTART:20140330T010000
END:DAYLIGHT
BEGIN:STANDARD
TZOFFSETFROM:+0200
TZOFFSETTO:+0100
TZNAME:CET
DTSTART:20141026T010000
END:STANDARD
END:VTIMEZONE
BEGIN:VEVENT
DTSTART;TZID=Europe/Ljubljana:20141222T180000
DTEND;TZID=Europe/Ljubljana:20141222T190000
DTSTAMP:20260421T141657
CREATED:20141202T133123Z
LAST-MODIFIED:20141202T133123Z
UID:829-1419271200-1419274800@cmakcerkno.net
SUMMARY:Papir’n Muzika (Papelito in Brencl banda)
DESCRIPTION:Lutkovno-glasbena predstava za otroke in odraslePapir’n Muzika je plod ustvarjalnega sodelovanja med glasbeniki Brencl bande in animatorjema Branetom Solcetom in Sanjo Fidler\, ki ob glasbi manipulirata z vso papirnato menažerijo in gibljivimi kreaturami papirgledališča Papelito. Za oživljanje in animacijsko-vizualno interpretiranje posameznih glasbenih točk Brencl bande animatorja uporabita kar glasbenike\, njihova glasbila in še kakšen dodaten scenski element ali figuro. \nNastopajo: Brane Solce\, Sanja Fidler\, Klemen Bračko\, Rok Šinkovec\, Matija Krivec in Andrej Boštjančič Ruda.
URL:https://cmakcerkno.net/event/papirn-muzika-papelito-in-brencl-banda/
LOCATION:C.M.A.K. Cerkno\, Bevkova ulica 22\, Cerkno\, 5282\, Slovenija
CATEGORIES:Večzvrstno
ATTACH;FMTTYPE=image/jpeg:https://cmakcerkno.net/wp-content/uploads/2014/12/papirnmuzika21.jpg
END:VEVENT
END:VCALENDAR