BEGIN:VCALENDAR
VERSION:2.0
PRODID:-//C.M.A.K. Cerkno - ECPv5.10.0//NONSGML v1.0//EN
CALSCALE:GREGORIAN
METHOD:PUBLISH
X-WR-CALNAME:C.M.A.K. Cerkno
X-ORIGINAL-URL:https://cmakcerkno.net
X-WR-CALDESC:Events for C.M.A.K. Cerkno
BEGIN:VTIMEZONE
TZID:Europe/Ljubljana
BEGIN:DAYLIGHT
TZOFFSETFROM:+0100
TZOFFSETTO:+0200
TZNAME:CEST
DTSTART:20200329T010000
END:DAYLIGHT
BEGIN:STANDARD
TZOFFSETFROM:+0200
TZOFFSETTO:+0100
TZNAME:CET
DTSTART:20201025T010000
END:STANDARD
END:VTIMEZONE
BEGIN:VEVENT
DTSTART;TZID=Europe/Ljubljana:20201010T180000
DTEND;TZID=Europe/Ljubljana:20201010T190000
DTSTAMP:20260420T170345
CREATED:20200930T094856Z
LAST-MODIFIED:20200930T094856Z
UID:3992-1602352800-1602356400@cmakcerkno.net
SUMMARY:Pakistan\, dežela prijaznih ljudi - potopisno predavanje
DESCRIPTION:Potovanje po tej “nevarni” deželi pričnem v glavnem mestu Islamabad\, ki me pozdravi z več kot 40 stopinj C. Od tu se odpravim na sever v Gilgit\, ki je pravo križišče za potovanje po severnem delu dežele. Na skrajnem zahodu\, ob meji z Afganistanom\, obiščem ljudstvo Kalaši\, ki so potomci Aleksandra Velikega. Njihova kultura\, tradicionalna oblačila in preprostost me povsem prevzamejo. Ob vračanju v Gilgit se ustavim na prelazu Shandur\, kjer si ogledam polo tekmo med Gilgitom in Chitralom. Nič posebnega\, če ne bi tekmovanje potekalo na višini 3800m.\nObiščem še Karimabad\, ter se odpravim na treking pod ubijalsko goro\, kakor imenujejo Nanga Parbat. \nVeč o mojih doživetjih iz “dežele teroristov” pa na predavanju\, ki traja 60 minut. \nPredava Zoran Furman \nUdeležence potopisnega predavanja naprošamo\, naj ne hodijo\, če niso zdravi in naj upoštevajo priporočeno razdaljo in higieno po priporočilih NIJZ.
URL:https://cmakcerkno.net/event/pakistan-dezela-prijaznih-ljudi-potopisno-predavanje/
LOCATION:MC C.M.A.K.\, Močnikova ulica 3\, Cerkno\, 5282\, Slovenija
CATEGORIES:Predavanje
ATTACH;FMTTYPE=image/jpeg:https://cmakcerkno.net/wp-content/uploads/2020/09/Pakistan.jpg
END:VEVENT
END:VCALENDAR