BEGIN:VCALENDAR
VERSION:2.0
PRODID:-//C.M.A.K. Cerkno - ECPv5.10.0//NONSGML v1.0//EN
CALSCALE:GREGORIAN
METHOD:PUBLISH
X-WR-CALNAME:C.M.A.K. Cerkno
X-ORIGINAL-URL:https://cmakcerkno.net
X-WR-CALDESC:Events for C.M.A.K. Cerkno
BEGIN:VTIMEZONE
TZID:Europe/Ljubljana
BEGIN:DAYLIGHT
TZOFFSETFROM:+0100
TZOFFSETTO:+0200
TZNAME:CEST
DTSTART:20220327T010000
END:DAYLIGHT
BEGIN:STANDARD
TZOFFSETFROM:+0200
TZOFFSETTO:+0100
TZNAME:CET
DTSTART:20221030T010000
END:STANDARD
END:VTIMEZONE
BEGIN:VEVENT
DTSTART;TZID=Europe/Ljubljana:20220916T170000
DTEND;TZID=Europe/Ljubljana:20221007T200000
DTSTAMP:20260421T000527
CREATED:20220911T182304Z
LAST-MODIFIED:20220911T182802Z
UID:4927-1663347600-1665172800@cmakcerkno.net
SUMMARY:Otvoritev razstave ilustracij: Klara Perušek // 24. Cmakajne
DESCRIPTION:Petek\, 16. september ob 17.00\nGalerija Stopnišče\, VC Cerkno \n \nVabljeni na otvoritev razstave ilustracij mlade umetnice Klare Perušek! \nKlara Perušek je pred časom Ilustrirala in oblikovala prvo slikanico avtorice Andreje Pogorelc. Na razstavi\, s katero bomo otvorili letošnji\, že 24. festival Cmakajne\, si boste lahko ogledali in prebrali slike ter zgodbo iz omenjene slikanice\, pripoveduje pa legendo o nastanku Ribnice na Dolenjskem. \nKlara o sebi in svoji ustvarjalni poti pravi takole: \nŽe kot majhna deklica sem veliko ustvarjala\, tako me je umetnost spremljala celo življenje. V času gimnazije sem imela prvo malo samostojno razstavo\, v tistem času sem slikala predvsem z akvarelom realistične slike. Po gimnaziji sem študirala Kineziologijo in v času študija je moj ustvarjalni del počival\, a je po koncu študija izbruhnil\, saj sem si za nagrado ob zaključku magistrske naloge kupila tablico za digitalno risanje in od takrat naprej redno ustvarjam. Najprej sem želela odkriti svoj stil risanja in jih kar nekaj preizkusila\, sedaj pa sem ugotovila\, da so moj stil različni stili risanja\, saj v vsakem obdobju začutim potrebo po tem\, da malo eksperimentiram in se preizkusim v različnih stilih\, saj bi mi bilo drugače preveč monotono. \nPonosna sem tudi na pravkar zaključen projekt – stenska poslikava v Kočevju\, ki jo ravno tako lahko vidite na razstavi v obliki fotografije. Rada se lotim tudi različnih projektov kot so renovacija starega pohištva\, izdelava cvetličnih lončkov\, kreiranje vezenih stenskih okraskov\, rada kvačkam\, izdelujem makrameje in še bi se kaj našlo. \n  \n  \n  \n 
URL:https://cmakcerkno.net/event/otvoritev-razstave-ilustracij-klara-perusek-24-cmakajne/
LOCATION:Galerija Stopnišče\, Bevkova 22\, Cerkno\, 5282\, Slovenija
CATEGORIES:Festival,Razstava
END:VEVENT
END:VCALENDAR