BEGIN:VCALENDAR
VERSION:2.0
PRODID:-//C.M.A.K. Cerkno - ECPv5.10.0//NONSGML v1.0//EN
CALSCALE:GREGORIAN
METHOD:PUBLISH
X-WR-CALNAME:C.M.A.K. Cerkno
X-ORIGINAL-URL:https://cmakcerkno.net
X-WR-CALDESC:Events for C.M.A.K. Cerkno
BEGIN:VTIMEZONE
TZID:Europe/Ljubljana
BEGIN:DAYLIGHT
TZOFFSETFROM:+0100
TZOFFSETTO:+0200
TZNAME:CEST
DTSTART:20190331T010000
END:DAYLIGHT
BEGIN:STANDARD
TZOFFSETFROM:+0200
TZOFFSETTO:+0100
TZNAME:CET
DTSTART:20191027T010000
END:STANDARD
END:VTIMEZONE
BEGIN:VEVENT
DTSTART;TZID=Europe/Ljubljana:20190823T150000
DTEND;TZID=Europe/Ljubljana:20190823T163000
DTSTAMP:20260420T184627
CREATED:20190812T151007Z
LAST-MODIFIED:20190812T151007Z
UID:3631-1566572400-1566577800@cmakcerkno.net
SUMMARY:Otroška delavnica: Ekosistem v kozarcu
DESCRIPTION:S pomočjo naravnih materialov\, ki se jih lahko nabere v bližnjem gozdu bomo naredili majhen čisto svoj ekostistem v kozarcu. Uporabili bomo litrske kozarce za vlaganje\, ki jih bomo na koncu zaprli in odnesli domov\, kjer boste lahko opazovali kako se narava obnaša. Če imate doma kakšen kamen ali zanimiv kos lesa\, ki ste ga dobili v naravi in bi ga radi vključili v vaš ekosistem ga le prinesite s seboj.\nDelavnica je primerna za otroke od 8. leta dalje\, lahko pa se nam pridružijo tudi otroci po srcu.
URL:https://cmakcerkno.net/event/otroska-delavnica-ekosistem-v-kozarcu/
LOCATION:C.M.A.K. Cerkno\, Bevkova ulica 22\, Cerkno\, 5282\, Slovenija
CATEGORIES:Delavnica
ATTACH;FMTTYPE=image/jpeg:https://cmakcerkno.net/wp-content/uploads/2019/08/ekosistem_kozarec.jpg
END:VEVENT
END:VCALENDAR