BEGIN:VCALENDAR
VERSION:2.0
PRODID:-//C.M.A.K. Cerkno - ECPv5.10.0//NONSGML v1.0//EN
CALSCALE:GREGORIAN
METHOD:PUBLISH
X-WR-CALNAME:C.M.A.K. Cerkno
X-ORIGINAL-URL:https://cmakcerkno.net
X-WR-CALDESC:Events for C.M.A.K. Cerkno
BEGIN:VTIMEZONE
TZID:Europe/Ljubljana
BEGIN:DAYLIGHT
TZOFFSETFROM:+0100
TZOFFSETTO:+0200
TZNAME:CEST
DTSTART:20190331T010000
END:DAYLIGHT
BEGIN:STANDARD
TZOFFSETFROM:+0200
TZOFFSETTO:+0100
TZNAME:CET
DTSTART:20191027T010000
END:STANDARD
END:VTIMEZONE
BEGIN:VEVENT
DTSTART;TZID=Europe/Ljubljana:20190413T130000
DTEND;TZID=Europe/Ljubljana:20190413T160000
DTSTAMP:20260420T174509
CREATED:20190319T132349Z
LAST-MODIFIED:20190319T132828Z
UID:3514-1555160400-1555171200@cmakcerkno.net
SUMMARY:Novo Cerkno - delavnica
DESCRIPTION:Kje so meje možnega? Zagotovo ne na meji tega\, kar smo si sposobni predstavljati kot možno. Možno je veliko več kot smo si sposobni zamisliti.\nDa bi si vsaj malo bolje predstavljali nepredstavljivo\, pripravljamo delavnico\, kjer bomo spreminjali podobe Cerkljanske. Novo Cerkno bomo izdelali v tehniki kolaža\, ročno s škarjami in lepilom\, uporabili pa bomo tudi program Photoshop. Morda naredimo viadukt iz Polic v Šebrejle\, hotelski kompleks na pobočjih Porezna. Lahko posejemo ajdo v Labinjah\, posadimo drevesa po Cerknem\, rezerviramo nekaj parkirišč za invalide … Si predstavljate? \nBrezplačne delavnice bo vodil cerkljanski umetniški tandem Small but Dangers. \nPrijave: simon.hudolin.salchi[afna]gmail.com ali 041 965 063 (Simon). \n  \n 
URL:https://cmakcerkno.net/event/novo-cerkno-delavnica/
LOCATION:C.M.A.K. Cerkno\, Bevkova ulica 22\, Cerkno\, 5282\, Slovenija
CATEGORIES:Delavnica
ATTACH;FMTTYPE=image/jpeg:https://cmakcerkno.net/wp-content/uploads/2019/03/prekomor.jpg
END:VEVENT
END:VCALENDAR