BEGIN:VCALENDAR
VERSION:2.0
PRODID:-//C.M.A.K. Cerkno - ECPv5.10.0//NONSGML v1.0//EN
CALSCALE:GREGORIAN
METHOD:PUBLISH
X-WR-CALNAME:C.M.A.K. Cerkno
X-ORIGINAL-URL:https://cmakcerkno.net
X-WR-CALDESC:Events for C.M.A.K. Cerkno
BEGIN:VTIMEZONE
TZID:Europe/Ljubljana
BEGIN:DAYLIGHT
TZOFFSETFROM:+0100
TZOFFSETTO:+0200
TZNAME:CEST
DTSTART:20140330T010000
END:DAYLIGHT
BEGIN:STANDARD
TZOFFSETFROM:+0200
TZOFFSETTO:+0100
TZNAME:CET
DTSTART:20141026T010000
END:STANDARD
END:VTIMEZONE
BEGIN:VEVENT
DTSTART;TZID=Europe/Ljubljana:20141122T210000
DTEND;TZID=Europe/Ljubljana:20141122T235500
DTSTAMP:20260421T091441
CREATED:20141031T171211Z
LAST-MODIFIED:20141103T135920Z
UID:682-1416690000-1416700500@cmakcerkno.net
SUMMARY:Nazaj u cajt - ta šest bart
DESCRIPTION:Da\, tudi letos bomo malce pognali časovni stroj in se podali nekaj desetletij nazaj\, v zlata osemdeseta leta. Nekateri pravijo\, da se je takrat ustvarjala najboljša glasba. Če ste tudi vi takšnega mnenja\, potem ste vabljeni\, da se udeležite večera glasbe 80-ih\, ko se bodo vrteli vsi možni pop in rock hiti tistega obdobja. Ob njih pa se boste lahko zavrteli tudi vi. Torej vabljeni v prostore CMAK-a v soboto\, 22. 11. 2012 od 21. ure naprej. P.S.: DJ bo več kot razpložen za izpolnjevanje glasbenih želja!
URL:https://cmakcerkno.net/event/nazaj-u-cajt-ta-sest-bart/
LOCATION:C.M.A.K. Cerkno\, Bevkova ulica 22\, Cerkno\, 5282\, Slovenija
CATEGORIES:Klubski večer
END:VEVENT
END:VCALENDAR